BEGIN:VCALENDAR
VERSION:2.0
PRODID:-//Bowsden Village Hall - ECPv6.15.20//NONSGML v1.0//EN
CALSCALE:GREGORIAN
METHOD:PUBLISH
X-WR-CALNAME:Bowsden Village Hall
X-ORIGINAL-URL:https://www.bowsdenvillagehall.net
X-WR-CALDESC:Events for Bowsden Village Hall
REFRESH-INTERVAL;VALUE=DURATION:PT1H
X-Robots-Tag:noindex
X-PUBLISHED-TTL:PT1H
BEGIN:VTIMEZONE
TZID:Europe/London
BEGIN:DAYLIGHT
TZOFFSETFROM:+0000
TZOFFSETTO:+0100
TZNAME:BST
DTSTART:20240331T010000
END:DAYLIGHT
BEGIN:STANDARD
TZOFFSETFROM:+0100
TZOFFSETTO:+0000
TZNAME:GMT
DTSTART:20241027T010000
END:STANDARD
BEGIN:DAYLIGHT
TZOFFSETFROM:+0000
TZOFFSETTO:+0100
TZNAME:BST
DTSTART:20250330T010000
END:DAYLIGHT
BEGIN:STANDARD
TZOFFSETFROM:+0100
TZOFFSETTO:+0000
TZNAME:GMT
DTSTART:20251026T010000
END:STANDARD
BEGIN:DAYLIGHT
TZOFFSETFROM:+0000
TZOFFSETTO:+0100
TZNAME:BST
DTSTART:20260329T010000
END:DAYLIGHT
BEGIN:STANDARD
TZOFFSETFROM:+0100
TZOFFSETTO:+0000
TZNAME:GMT
DTSTART:20261025T010000
END:STANDARD
BEGIN:DAYLIGHT
TZOFFSETFROM:+0000
TZOFFSETTO:+0100
TZNAME:BST
DTSTART:20270328T010000
END:DAYLIGHT
BEGIN:STANDARD
TZOFFSETFROM:+0100
TZOFFSETTO:+0000
TZNAME:GMT
DTSTART:20271031T010000
END:STANDARD
END:VTIMEZONE
BEGIN:VEVENT
DTSTART;TZID=Europe/London:20260120T133000
DTEND;TZID=Europe/London:20260120T153000
DTSTAMP:20260419T181424
CREATED:20240130T163741Z
LAST-MODIFIED:20251020T193015Z
UID:3002-1768915800-1768923000@www.bowsdenvillagehall.net
SUMMARY:Needlework Group
DESCRIPTION:
URL:https://www.bowsdenvillagehall.net/event/needlework-group-47/
LOCATION:Bowsden Village Hall\, Bowsden\, Berwick-upon-Tweed\, Northumberland\, TD15 2TW\, United Kingdom
END:VEVENT
BEGIN:VEVENT
DTSTART;TZID=Europe/London:20260120T100000
DTEND;TZID=Europe/London:20260120T110000
DTSTAMP:20260419T181424
CREATED:20240201T133319Z
LAST-MODIFIED:20260102T180034Z
UID:3025-1768903200-1768906800@www.bowsdenvillagehall.net
SUMMARY:Keep Fit
DESCRIPTION:
URL:https://www.bowsdenvillagehall.net/event/keep-fit-71/
END:VEVENT
BEGIN:VEVENT
DTSTART;TZID=Europe/London:20260119T190000
DTEND;TZID=Europe/London:20260119T203000
DTSTAMP:20260419T181424
CREATED:20260102T153607Z
LAST-MODIFIED:20260102T153607Z
UID:5321-1768849200-1768854600@www.bowsdenvillagehall.net
SUMMARY:BVH Committee Meeting
DESCRIPTION:
URL:https://www.bowsdenvillagehall.net/event/bvh-committee-meeting/
END:VEVENT
BEGIN:VEVENT
DTSTART;TZID=Europe/London:20260118T130000
DTEND;TZID=Europe/London:20260118T170000
DTSTAMP:20260419T181424
CREATED:20251216T192809Z
LAST-MODIFIED:20251216T192809Z
UID:5310-1768741200-1768755600@www.bowsdenvillagehall.net
SUMMARY:Film Afternoon: The Party (1968)
DESCRIPTION:
URL:https://www.bowsdenvillagehall.net/event/film-afternoon-the-party-1968/
END:VEVENT
BEGIN:VEVENT
DTSTART;TZID=Europe/London:20260116T190000
DTEND;TZID=Europe/London:20260116T230000
DTSTAMP:20260419T181424
CREATED:20231122T180123Z
LAST-MODIFIED:20260102T175335Z
UID:2724-1768590000-1768604400@www.bowsdenvillagehall.net
SUMMARY:Bowsden Social Night
DESCRIPTION:
URL:https://www.bowsdenvillagehall.net/event/bowsden-social-night/
END:VEVENT
BEGIN:VEVENT
DTSTART;TZID=Europe/London:20260116T100000
DTEND;TZID=Europe/London:20260116T120000
DTSTAMP:20260419T181424
CREATED:20240603T105450Z
LAST-MODIFIED:20260102T171915Z
UID:3814-1768557600-1768564800@www.bowsdenvillagehall.net
SUMMARY:Bowsden Men's Club
DESCRIPTION:
URL:https://www.bowsdenvillagehall.net/event/bowsden-mens-club-39/
END:VEVENT
BEGIN:VEVENT
DTSTART;TZID=Europe/London:20260115T183000
DTEND;TZID=Europe/London:20260115T193000
DTSTAMP:20260419T181424
CREATED:20250922T092653Z
LAST-MODIFIED:20250922T102705Z
UID:5175-1768501800-1768505400@www.bowsdenvillagehall.net
SUMMARY:Boxercise
DESCRIPTION:
URL:https://www.bowsdenvillagehall.net/event/boxercise-28/
END:VEVENT
BEGIN:VEVENT
DTSTART;TZID=Europe/London:20260114T183000
DTEND;TZID=Europe/London:20260114T200000
DTSTAMP:20260419T181424
CREATED:20260102T153838Z
LAST-MODIFIED:20260102T153852Z
UID:5325-1768415400-1768420800@www.bowsdenvillagehall.net
SUMMARY:Line Dancing for beginners
DESCRIPTION:
URL:https://www.bowsdenvillagehall.net/event/line-dancing-for-beginners-47/
END:VEVENT
BEGIN:VEVENT
DTSTART;TZID=Europe/London:20260113T190000
DTEND;TZID=Europe/London:20260113T210000
DTSTAMP:20260419T181424
CREATED:20240201T133935Z
LAST-MODIFIED:20251213T102039Z
UID:3042-1768330800-1768338000@www.bowsdenvillagehall.net
SUMMARY:Carpet Bowls
DESCRIPTION:
URL:https://www.bowsdenvillagehall.net/event/carpet-bowls-83/
END:VEVENT
BEGIN:VEVENT
DTSTART;TZID=Europe/London:20260113T133000
DTEND;TZID=Europe/London:20260113T153000
DTSTAMP:20260419T181424
CREATED:20240130T163616Z
LAST-MODIFIED:20251020T192938Z
UID:2998-1768311000-1768318200@www.bowsdenvillagehall.net
SUMMARY:Needlework Group
DESCRIPTION:
URL:https://www.bowsdenvillagehall.net/event/needlework-group-46/
LOCATION:Bowsden Village Hall\, Bowsden\, Berwick-upon-Tweed\, Northumberland\, TD15 2TW\, United Kingdom
END:VEVENT
BEGIN:VEVENT
DTSTART;TZID=Europe/London:20260113T100000
DTEND;TZID=Europe/London:20260113T110000
DTSTAMP:20260419T181424
CREATED:20240201T133314Z
LAST-MODIFIED:20260102T180023Z
UID:3024-1768298400-1768302000@www.bowsdenvillagehall.net
SUMMARY:Keep Fit
DESCRIPTION:
URL:https://www.bowsdenvillagehall.net/event/keep-fit-70/
END:VEVENT
BEGIN:VEVENT
DTSTART;TZID=Europe/London:20260111T130000
DTEND;TZID=Europe/London:20260111T170000
DTSTAMP:20260419T181424
CREATED:20250917T163106Z
LAST-MODIFIED:20251218T161108Z
UID:5139-1768136400-1768150800@www.bowsdenvillagehall.net
SUMMARY:National Theatre Live: The Fifth Step
DESCRIPTION:£10 per person Show stars 1.30pm\, Bar open\, popcorn and ice cream available \nOlivier Award-winner Jack Lowden (Slow Horses\, Dunkirk) is joined by Emmy and BAFTA-winner Martin Freeman (The Hobbit\, The Responder) in the critically acclaimed and subversively funny new play by David Ireland. \nAfter years in the 12-step programme of Alcoholics Anonymous\, James becomes a sponsor to newcomer Luka. The pair bond over black coffee\, trade stories and build a fragile friendship out of their shared experiences. But as Luka approaches step five – the moment of confession – dangerous truths emerge\, threatening the trust on which both of their recoveries depend. \nFinn den Hertog directs the provocative and entertaining production filmed live from @sohoplace on London’s West End. \nPreview
URL:https://www.bowsdenvillagehall.net/event/national-theatre-live-the-firth-step/
END:VEVENT
BEGIN:VEVENT
DTSTART;TZID=Europe/London:20260109T100000
DTEND;TZID=Europe/London:20260109T120000
DTSTAMP:20260419T181424
CREATED:20231106T155534Z
LAST-MODIFIED:20260102T171731Z
UID:2630-1767952800-1767960000@www.bowsdenvillagehall.net
SUMMARY:Bowsden Men's Group
DESCRIPTION:Come along and have a chat and help us decide what direction the group should take. \nBacon rolls\, tea and coffee
URL:https://www.bowsdenvillagehall.net/event/bowsden-mens-group/
END:VEVENT
BEGIN:VEVENT
DTSTART;TZID=Europe/London:20260108T200000
DTEND;TZID=Europe/London:20260108T220000
DTSTAMP:20260419T181424
CREATED:20240212T135439Z
LAST-MODIFIED:20251202T084938Z
UID:3222-1767902400-1767909600@www.bowsdenvillagehall.net
SUMMARY:Bowsden Discussion Group
DESCRIPTION:
URL:https://www.bowsdenvillagehall.net/event/bowsden-discussion-group-6/
END:VEVENT
BEGIN:VEVENT
DTSTART;TZID=Europe/London:20260108T183000
DTEND;TZID=Europe/London:20260108T193000
DTSTAMP:20260419T181424
CREATED:20250922T092401Z
LAST-MODIFIED:20250922T102624Z
UID:5171-1767897000-1767900600@www.bowsdenvillagehall.net
SUMMARY:Boxercise
DESCRIPTION:
URL:https://www.bowsdenvillagehall.net/event/boxercise-26/
END:VEVENT
BEGIN:VEVENT
DTSTART;TZID=Europe/London:20260107T183000
DTEND;TZID=Europe/London:20260107T200000
DTSTAMP:20260419T181424
CREATED:20260102T153727Z
LAST-MODIFIED:20260102T153802Z
UID:5323-1767810600-1767816000@www.bowsdenvillagehall.net
SUMMARY:Line Dancing for beginners
DESCRIPTION:
URL:https://www.bowsdenvillagehall.net/event/line-dancing-for-beginners-46/
END:VEVENT
BEGIN:VEVENT
DTSTART;TZID=Europe/London:20260106T133000
DTEND;TZID=Europe/London:20260106T153000
DTSTAMP:20260419T181424
CREATED:20230929T145219Z
LAST-MODIFIED:20251020T192916Z
UID:2435-1767706200-1767713400@www.bowsdenvillagehall.net
SUMMARY:Needlework Group
DESCRIPTION:
URL:https://www.bowsdenvillagehall.net/event/needlework-group-45/
LOCATION:Bowsden Village Hall\, Bowsden\, Berwick-upon-Tweed\, Northumberland\, TD15 2TW\, United Kingdom
END:VEVENT
BEGIN:VEVENT
DTSTART;TZID=Europe/London:20260106T100000
DTEND;TZID=Europe/London:20260106T110000
DTSTAMP:20260419T181424
CREATED:20250602T142834Z
LAST-MODIFIED:20250602T152856Z
UID:4994-1767693600-1767697200@www.bowsdenvillagehall.net
SUMMARY:Keep Fit
DESCRIPTION:
URL:https://www.bowsdenvillagehall.net/event/keep-fit-48/
END:VEVENT
BEGIN:VEVENT
DTSTART;TZID=Europe/London:20260103T100000
DTEND;TZID=Europe/London:20260103T120000
DTSTAMP:20260419T181424
CREATED:20240201T143458Z
LAST-MODIFIED:20251018T131830Z
UID:3161-1767434400-1767441600@www.bowsdenvillagehall.net
SUMMARY:Bowsden Coffee Morning
DESCRIPTION:
URL:https://www.bowsdenvillagehall.net/event/bowsden-coffee-morning-30/
END:VEVENT
BEGIN:VEVENT
DTSTART;TZID=Europe/London:20260102T100000
DTEND;TZID=Europe/London:20260102T120000
DTSTAMP:20260419T181424
CREATED:20260102T094937Z
LAST-MODIFIED:20260102T094937Z
UID:5319-1767348000-1767355200@www.bowsdenvillagehall.net
SUMMARY:Mens
DESCRIPTION:
URL:https://www.bowsdenvillagehall.net/event/mens/
END:VEVENT
BEGIN:VEVENT
DTSTART;TZID=Europe/London:20251231T190000
DTEND;TZID=Europe/London:20260101T000000
DTSTAMP:20260419T181424
CREATED:20231103T194347Z
LAST-MODIFIED:20251019T091241Z
UID:2615-1767207600-1767225600@www.bowsdenvillagehall.net
SUMMARY:Bowsden  New Year's Eve Party Night
DESCRIPTION:With music from Laid Back a duo who perform 60s and 70s music from 8pm\,  food and bar open party games from 10.30 till midnight.
URL:https://www.bowsdenvillagehall.net/event/bowsden-arms-new-years-eve-party-pub-night/
LOCATION:Bowsden Village Hall\, Bowsden\, Berwick-upon-Tweed\, Northumberland\, TD15 2TW\, United Kingdom
END:VEVENT
BEGIN:VEVENT
DTSTART;TZID=Europe/London:20251230T100000
DTEND;TZID=Europe/London:20251230T110000
DTSTAMP:20260419T181424
CREATED:20250205T161450Z
LAST-MODIFIED:20250205T161502Z
UID:4478-1767088800-1767092400@www.bowsdenvillagehall.net
SUMMARY:Keep Fit
DESCRIPTION:
URL:https://www.bowsdenvillagehall.net/event/keep-fit-47/
END:VEVENT
BEGIN:VEVENT
DTSTART;TZID=Europe/London:20251221T133000
DTEND;TZID=Europe/London:20251221T170000
DTSTAMP:20260419T181424
CREATED:20240905T132727Z
LAST-MODIFIED:20251018T131655Z
UID:4185-1766323800-1766336400@www.bowsdenvillagehall.net
SUMMARY:Christmas Film afternoon
DESCRIPTION:Donations on the door \nJoin us for a festive film\, hot chocolate\, popcorn\, ice cream galore!
URL:https://www.bowsdenvillagehall.net/event/film-night-american-werewolf-in-london/
END:VEVENT
BEGIN:VEVENT
DTSTART;TZID=Europe/London:20251218T183000
DTEND;TZID=Europe/London:20251218T193000
DTSTAMP:20260419T181424
CREATED:20250922T092344Z
LAST-MODIFIED:20250922T102357Z
UID:5169-1766082600-1766086200@www.bowsdenvillagehall.net
SUMMARY:Boxercise
DESCRIPTION:
URL:https://www.bowsdenvillagehall.net/event/boxercise-25/
END:VEVENT
BEGIN:VEVENT
DTSTART;TZID=Europe/London:20251216T133000
DTEND;TZID=Europe/London:20251216T153000
DTSTAMP:20260419T181424
CREATED:20230929T145216Z
LAST-MODIFIED:20251020T192843Z
UID:2434-1765891800-1765899000@www.bowsdenvillagehall.net
SUMMARY:Needlework Group
DESCRIPTION: 
URL:https://www.bowsdenvillagehall.net/event/needlework-group-44/
LOCATION:Bowsden Village Hall\, Bowsden\, Berwick-upon-Tweed\, Northumberland\, TD15 2TW\, United Kingdom
END:VEVENT
BEGIN:VEVENT
DTSTART;TZID=Europe/London:20251215T080000
DTEND;TZID=Europe/London:20251215T160000
DTSTAMP:20260419T181424
CREATED:20251020T193701Z
LAST-MODIFIED:20251020T193701Z
UID:5269-1765785600-1765814400@www.bowsdenvillagehall.net
SUMMARY:AHDB ABG Meeting
DESCRIPTION:Private event
URL:https://www.bowsdenvillagehall.net/event/ahdb-abg-meeting/
END:VEVENT
BEGIN:VEVENT
DTSTART;TZID=Europe/London:20251215T063000
DTEND;TZID=Europe/London:20251215T063000
DTSTAMP:20260419T181424
CREATED:20251211T104546Z
LAST-MODIFIED:20251211T104546Z
UID:5290-1765780200-1765780200@www.bowsdenvillagehall.net
SUMMARY:
DESCRIPTION:Heating Test
URL:https://www.bowsdenvillagehall.net/event/5290/
END:VEVENT
BEGIN:VEVENT
DTSTART;TZID=Europe/London:20251212T183000
DTEND;TZID=Europe/London:20251212T230000
DTSTAMP:20260419T181424
CREATED:20251018T131347Z
LAST-MODIFIED:20251030T183856Z
UID:5243-1765564200-1765580400@www.bowsdenvillagehall.net
SUMMARY:Christmas Light Switch on followed by Cocktail Night
DESCRIPTION:Join us for the Christmas light switch on at the village hall\, followed by a Christmas party and cocktail night. \nComplimentary mince pies and mulled wine served during the light switch on. \nCocktails to follow and a festive social evening til late.
URL:https://www.bowsdenvillagehall.net/event/christmas-light-switch-on-followed-by-cocktail-night/
END:VEVENT
BEGIN:VEVENT
DTSTART;TZID=Europe/London:20251211T200000
DTEND;TZID=Europe/London:20251211T220000
DTSTAMP:20260419T181424
CREATED:20251120T183203Z
LAST-MODIFIED:20251202T084847Z
UID:5282-1765483200-1765490400@www.bowsdenvillagehall.net
SUMMARY:Bowsden Discussion Group
DESCRIPTION:
URL:https://www.bowsdenvillagehall.net/event/bowsden-discussion-group/
END:VEVENT
BEGIN:VEVENT
DTSTART;TZID=Europe/London:20251211T183000
DTEND;TZID=Europe/London:20251211T193000
DTSTAMP:20260419T181424
CREATED:20250922T092312Z
LAST-MODIFIED:20250922T102328Z
UID:5167-1765477800-1765481400@www.bowsdenvillagehall.net
SUMMARY:Boxercise
DESCRIPTION:
URL:https://www.bowsdenvillagehall.net/event/boxercise-24/
END:VEVENT
END:VCALENDAR