BEGIN:VCALENDAR
VERSION:2.0
PRODID:-//Bowsden Village Hall - ECPv6.15.20//NONSGML v1.0//EN
CALSCALE:GREGORIAN
METHOD:PUBLISH
X-WR-CALNAME:Bowsden Village Hall
X-ORIGINAL-URL:https://www.bowsdenvillagehall.net
X-WR-CALDESC:Events for Bowsden Village Hall
REFRESH-INTERVAL;VALUE=DURATION:PT1H
X-Robots-Tag:noindex
X-PUBLISHED-TTL:PT1H
BEGIN:VTIMEZONE
TZID:Europe/London
BEGIN:DAYLIGHT
TZOFFSETFROM:+0000
TZOFFSETTO:+0100
TZNAME:BST
DTSTART:20220327T010000
END:DAYLIGHT
BEGIN:STANDARD
TZOFFSETFROM:+0100
TZOFFSETTO:+0000
TZNAME:GMT
DTSTART:20221030T010000
END:STANDARD
BEGIN:DAYLIGHT
TZOFFSETFROM:+0000
TZOFFSETTO:+0100
TZNAME:BST
DTSTART:20230326T010000
END:DAYLIGHT
BEGIN:STANDARD
TZOFFSETFROM:+0100
TZOFFSETTO:+0000
TZNAME:GMT
DTSTART:20231029T010000
END:STANDARD
BEGIN:DAYLIGHT
TZOFFSETFROM:+0000
TZOFFSETTO:+0100
TZNAME:BST
DTSTART:20240331T010000
END:DAYLIGHT
BEGIN:STANDARD
TZOFFSETFROM:+0100
TZOFFSETTO:+0000
TZNAME:GMT
DTSTART:20241027T010000
END:STANDARD
BEGIN:DAYLIGHT
TZOFFSETFROM:+0000
TZOFFSETTO:+0100
TZNAME:BST
DTSTART:20250330T010000
END:DAYLIGHT
BEGIN:STANDARD
TZOFFSETFROM:+0100
TZOFFSETTO:+0000
TZNAME:GMT
DTSTART:20251026T010000
END:STANDARD
END:VTIMEZONE
BEGIN:VEVENT
DTSTART;TZID=Europe/London:20240126T100000
DTEND;TZID=Europe/London:20240126T120000
DTSTAMP:20260420T235625
CREATED:20231122T201430Z
LAST-MODIFIED:20231122T201430Z
UID:2778-1706263200-1706270400@www.bowsdenvillagehall.net
SUMMARY:Bowsden Men’s Club
DESCRIPTION:
URL:https://www.bowsdenvillagehall.net/event/bowsden-mens-club-10/
END:VEVENT
BEGIN:VEVENT
DTSTART;TZID=Europe/London:20240125T103000
DTEND;TZID=Europe/London:20240125T113000
DTSTAMP:20260420T235625
CREATED:20231122T194304Z
LAST-MODIFIED:20231218T130006Z
UID:2732-1706178600-1706182200@www.bowsdenvillagehall.net
SUMMARY:Seat-ercise
DESCRIPTION:
URL:https://www.bowsdenvillagehall.net/event/flexercise-15/
END:VEVENT
BEGIN:VEVENT
DTSTART;TZID=Europe/London:20240119T100000
DTEND;TZID=Europe/London:20240119T120000
DTSTAMP:20260420T235625
CREATED:20231122T201332Z
LAST-MODIFIED:20231122T201332Z
UID:2776-1705658400-1705665600@www.bowsdenvillagehall.net
SUMMARY:Bowsden Men’s Club
DESCRIPTION:
URL:https://www.bowsdenvillagehall.net/event/bowsden-mens-club-9/
END:VEVENT
BEGIN:VEVENT
DTSTART;TZID=Europe/London:20240118T103000
DTEND;TZID=Europe/London:20240118T113000
DTSTAMP:20260420T235625
CREATED:20231122T194147Z
LAST-MODIFIED:20231218T125950Z
UID:2730-1705573800-1705577400@www.bowsdenvillagehall.net
SUMMARY:Seat-ercise
DESCRIPTION:
URL:https://www.bowsdenvillagehall.net/event/flexercise-14/
END:VEVENT
BEGIN:VEVENT
DTSTART;TZID=Europe/London:20240112T100000
DTEND;TZID=Europe/London:20240112T120000
DTSTAMP:20260420T235625
CREATED:20231122T201229Z
LAST-MODIFIED:20231122T201229Z
UID:2774-1705053600-1705060800@www.bowsdenvillagehall.net
SUMMARY:Bowsden Men’s Club
DESCRIPTION:
URL:https://www.bowsdenvillagehall.net/event/bowsden-mens-club-8/
END:VEVENT
BEGIN:VEVENT
DTSTART;TZID=Europe/London:20240111T103000
DTEND;TZID=Europe/London:20240111T113000
DTSTAMP:20260420T235625
CREATED:20231122T194054Z
LAST-MODIFIED:20231218T125904Z
UID:2728-1704969000-1704972600@www.bowsdenvillagehall.net
SUMMARY:Seat-ercise
DESCRIPTION:
URL:https://www.bowsdenvillagehall.net/event/flexercise-13/
END:VEVENT
BEGIN:VEVENT
DTSTART;TZID=Europe/London:20240105T100000
DTEND;TZID=Europe/London:20240105T120000
DTSTAMP:20260420T235625
CREATED:20231122T200933Z
LAST-MODIFIED:20231122T201129Z
UID:2772-1704448800-1704456000@www.bowsdenvillagehall.net
SUMMARY:Bowsden Men’s Club
DESCRIPTION:
URL:https://www.bowsdenvillagehall.net/event/bowsden-mens-club-7/
END:VEVENT
BEGIN:VEVENT
DTSTART;TZID=Europe/London:20240104T103000
DTEND;TZID=Europe/London:20240104T113000
DTSTAMP:20260420T235625
CREATED:20231002T194938Z
LAST-MODIFIED:20231218T125759Z
UID:2491-1704364200-1704367800@www.bowsdenvillagehall.net
SUMMARY:Seat-ercise
DESCRIPTION:Seated exercise class £3.50
URL:https://www.bowsdenvillagehall.net/event/flexercise-12/
END:VEVENT
BEGIN:VEVENT
DTSTART;TZID=Europe/London:20231229T100000
DTEND;TZID=Europe/London:20231229T120000
DTSTAMP:20260420T235625
CREATED:20231122T200729Z
LAST-MODIFIED:20231122T200729Z
UID:2770-1703844000-1703851200@www.bowsdenvillagehall.net
SUMMARY:Bowsden Men’s Club
DESCRIPTION:
URL:https://www.bowsdenvillagehall.net/event/bowsden-mens-club-6/
END:VEVENT
BEGIN:VEVENT
DTSTART;TZID=Europe/London:20231222T100000
DTEND;TZID=Europe/London:20231222T120000
DTSTAMP:20260420T235625
CREATED:20231115T203022Z
LAST-MODIFIED:20231115T203022Z
UID:2708-1703239200-1703246400@www.bowsdenvillagehall.net
SUMMARY:Bowsden Men’s Club
DESCRIPTION:
URL:https://www.bowsdenvillagehall.net/event/bowsden-mens-club-5/
END:VEVENT
BEGIN:VEVENT
DTSTART;TZID=Europe/London:20231215T100000
DTEND;TZID=Europe/London:20231215T120000
DTSTAMP:20260420T235625
CREATED:20231115T202910Z
LAST-MODIFIED:20231115T202910Z
UID:2706-1702634400-1702641600@www.bowsdenvillagehall.net
SUMMARY:Bowsden Men’s Club
DESCRIPTION:
URL:https://www.bowsdenvillagehall.net/event/bowsden-mens-club-4/
END:VEVENT
BEGIN:VEVENT
DTSTART;TZID=Europe/London:20231208T100000
DTEND;TZID=Europe/London:20231208T120000
DTSTAMP:20260420T235625
CREATED:20231115T202820Z
LAST-MODIFIED:20231115T202820Z
UID:2703-1702029600-1702036800@www.bowsdenvillagehall.net
SUMMARY:Bowsden Men’s Club
DESCRIPTION:
URL:https://www.bowsdenvillagehall.net/event/bowsden-mens-club-3/
END:VEVENT
BEGIN:VEVENT
DTSTART;TZID=Europe/London:20231201T100000
DTEND;TZID=Europe/London:20231201T120000
DTSTAMP:20260420T235625
CREATED:20231115T202721Z
LAST-MODIFIED:20231115T202721Z
UID:2701-1701424800-1701432000@www.bowsdenvillagehall.net
SUMMARY:Bowsden Men’s Club
DESCRIPTION:
URL:https://www.bowsdenvillagehall.net/event/bowsden-mens-club-2/
END:VEVENT
BEGIN:VEVENT
DTSTART;TZID=Europe/London:20231130T103000
DTEND;TZID=Europe/London:20231130T113000
DTSTAMP:20260420T235625
CREATED:20231002T194259Z
LAST-MODIFIED:20231002T194259Z
UID:2481-1701340200-1701343800@www.bowsdenvillagehall.net
SUMMARY:Flexercise
DESCRIPTION:Seated exercise class £3.50
URL:https://www.bowsdenvillagehall.net/event/flexercise-7/
END:VEVENT
BEGIN:VEVENT
DTSTART;TZID=Europe/London:20231127T190000
DTEND;TZID=Europe/London:20231127T210000
DTSTAMP:20260420T235625
CREATED:20230926T083951Z
LAST-MODIFIED:20230926T094009Z
UID:2347-1701111600-1701118800@www.bowsdenvillagehall.net
SUMMARY:Bowsden Parish Council Meeting
DESCRIPTION:
URL:https://www.bowsdenvillagehall.net/event/bowsden-parish-council-meeting-8/
END:VEVENT
BEGIN:VEVENT
DTSTART;TZID=Europe/London:20231124T100000
DTEND;TZID=Europe/London:20231124T120000
DTSTAMP:20260420T235625
CREATED:20231115T202617Z
LAST-MODIFIED:20231115T202617Z
UID:2699-1700820000-1700827200@www.bowsdenvillagehall.net
SUMMARY:Bowsden Men’s Club
DESCRIPTION:
URL:https://www.bowsdenvillagehall.net/event/bowsden-mens-club/
END:VEVENT
BEGIN:VEVENT
DTSTART;TZID=Europe/London:20231123T184500
DTEND;TZID=Europe/London:20231123T213000
DTSTAMP:20260420T235625
CREATED:20230203T171145Z
LAST-MODIFIED:20230925T163133Z
UID:2037-1700765100-1700775000@www.bowsdenvillagehall.net
SUMMARY:Bowsden Photography Group
DESCRIPTION:TOPIC: Presentation:Lighting a subject
URL:https://www.bowsdenvillagehall.net/event/bowsden-camera-club-23/
LOCATION:Bowsden Village Hall\, Bowsden\, Berwick-upon-Tweed\, Northumberland\, TD15 2TW\, United Kingdom
END:VEVENT
BEGIN:VEVENT
DTSTART;TZID=Europe/London:20231123T103000
DTEND;TZID=Europe/London:20231123T113000
DTSTAMP:20260420T235625
CREATED:20231002T194129Z
LAST-MODIFIED:20231002T194129Z
UID:2479-1700735400-1700739000@www.bowsdenvillagehall.net
SUMMARY:Flexercise
DESCRIPTION:Seated exercise class
URL:https://www.bowsdenvillagehall.net/event/flexercise-6/
END:VEVENT
BEGIN:VEVENT
DTSTART;TZID=Europe/London:20231026T103000
DTEND;TZID=Europe/London:20231026T113000
DTSTAMP:20260420T235625
CREATED:20231002T120600Z
LAST-MODIFIED:20231002T120600Z
UID:2471-1698316200-1698319800@www.bowsdenvillagehall.net
SUMMARY:Flexercise
DESCRIPTION:Seated exercise class.
URL:https://www.bowsdenvillagehall.net/event/flexercise-2/
END:VEVENT
BEGIN:VEVENT
DTSTART;TZID=Europe/London:20231021T113000
DTEND;TZID=Europe/London:20231021T150000
DTSTAMP:20260420T235625
CREATED:20230819T075146Z
LAST-MODIFIED:20230819T075146Z
UID:2337-1697887800-1697900400@www.bowsdenvillagehall.net
SUMMARY:Harvest Table Top Sale
DESCRIPTION:£5 per table \nSell your preloved belongings and crafts. \nTea and coffee available to purchase at the hall \nSellers to set up at 10am \nOpen to the public at 11.30 am till 3.30pm \nTo book a table email  LILLYLOO46@gmail.com
URL:https://www.bowsdenvillagehall.net/event/harvest-table-top-sale/
END:VEVENT
BEGIN:VEVENT
DTSTART;TZID=Europe/London:20231019T103000
DTEND;TZID=Europe/London:20231019T113000
DTSTAMP:20260420T235625
CREATED:20231002T115755Z
LAST-MODIFIED:20231002T115755Z
UID:2469-1697711400-1697715000@www.bowsdenvillagehall.net
SUMMARY:Flexercise
DESCRIPTION:New seated exercise class. Starts 19th October and runs for 12week initially.\n£3.50 each including tea and biscuits and chat!
URL:https://www.bowsdenvillagehall.net/event/flexercise/
END:VEVENT
BEGIN:VEVENT
DTSTART;TZID=Europe/London:20231007T100000
DTEND;TZID=Europe/London:20231007T120000
DTSTAMP:20260420T235625
CREATED:20230929T143255Z
LAST-MODIFIED:20230929T153307Z
UID:2418-1696672800-1696680000@www.bowsdenvillagehall.net
SUMMARY:Bowsden Coffee Morning
DESCRIPTION:  \n 
URL:https://www.bowsdenvillagehall.net/event/bowsden-coffee-morning-18/
END:VEVENT
BEGIN:VEVENT
DTSTART;TZID=Europe/London:20230928T184500
DTEND;TZID=Europe/London:20230928T213000
DTSTAMP:20260420T235625
CREATED:20230203T170859Z
LAST-MODIFIED:20230925T163216Z
UID:2032-1695926700-1695936600@www.bowsdenvillagehall.net
SUMMARY:Bowsden Photography Group This month's venue is The Granary\, Berwick
DESCRIPTION:TOPIC: Colour as subject
URL:https://www.bowsdenvillagehall.net/event/bowsden-camera-club-21/
LOCATION:Bowsden Village Hall\, Bowsden\, Berwick-upon-Tweed\, Northumberland\, TD15 2TW\, United Kingdom
END:VEVENT
BEGIN:VEVENT
DTSTART;TZID=Europe/London:20230925T190000
DTEND;TZID=Europe/London:20230925T210000
DTSTAMP:20260420T235625
CREATED:20230605T144508Z
LAST-MODIFIED:20230605T154621Z
UID:2217-1695668400-1695675600@www.bowsdenvillagehall.net
SUMMARY:Bowsden Parish Council Meeting
DESCRIPTION:
URL:https://www.bowsdenvillagehall.net/event/bowsden-parish-council-meeting-7/
END:VEVENT
BEGIN:VEVENT
DTSTART;TZID=Europe/London:20230603T100000
DTEND;TZID=Europe/London:20230603T120000
DTSTAMP:20260420T235625
CREATED:20230328T130535Z
LAST-MODIFIED:20230328T140554Z
UID:2132-1685786400-1685793600@www.bowsdenvillagehall.net
SUMMARY:Bowsden Coffee Morning
DESCRIPTION:  \n 
URL:https://www.bowsdenvillagehall.net/event/bowsden-coffee-morning-16/
END:VEVENT
END:VCALENDAR