BEGIN:VCALENDAR
VERSION:2.0
PRODID:-//Bowsden Village Hall - ECPv6.15.20//NONSGML v1.0//EN
CALSCALE:GREGORIAN
METHOD:PUBLISH
X-WR-CALNAME:Bowsden Village Hall
X-ORIGINAL-URL:https://www.bowsdenvillagehall.net
X-WR-CALDESC:Events for Bowsden Village Hall
REFRESH-INTERVAL;VALUE=DURATION:PT1H
X-Robots-Tag:noindex
X-PUBLISHED-TTL:PT1H
BEGIN:VTIMEZONE
TZID:Europe/London
BEGIN:DAYLIGHT
TZOFFSETFROM:+0000
TZOFFSETTO:+0100
TZNAME:BST
DTSTART:20230326T010000
END:DAYLIGHT
BEGIN:STANDARD
TZOFFSETFROM:+0100
TZOFFSETTO:+0000
TZNAME:GMT
DTSTART:20231029T010000
END:STANDARD
BEGIN:DAYLIGHT
TZOFFSETFROM:+0000
TZOFFSETTO:+0100
TZNAME:BST
DTSTART:20240331T010000
END:DAYLIGHT
BEGIN:STANDARD
TZOFFSETFROM:+0100
TZOFFSETTO:+0000
TZNAME:GMT
DTSTART:20241027T010000
END:STANDARD
BEGIN:DAYLIGHT
TZOFFSETFROM:+0000
TZOFFSETTO:+0100
TZNAME:BST
DTSTART:20250330T010000
END:DAYLIGHT
BEGIN:STANDARD
TZOFFSETFROM:+0100
TZOFFSETTO:+0000
TZNAME:GMT
DTSTART:20251026T010000
END:STANDARD
END:VTIMEZONE
BEGIN:VEVENT
DTSTART;TZID=Europe/London:20240414T080000
DTEND;TZID=Europe/London:20240414T180000
DTSTAMP:20260420T211317
CREATED:20240129T131944Z
LAST-MODIFIED:20240129T131944Z
UID:2994-1713081600-1713117600@www.bowsdenvillagehall.net
SUMMARY:Charity Event
DESCRIPTION:
URL:https://www.bowsdenvillagehall.net/event/charity-event/
END:VEVENT
BEGIN:VEVENT
DTSTART;TZID=Europe/London:20240413T150000
DTEND;TZID=Europe/London:20240413T173000
DTSTAMP:20260420T211317
CREATED:20240402T170145Z
LAST-MODIFIED:20240402T170145Z
UID:3322-1713020400-1713029400@www.bowsdenvillagehall.net
SUMMARY:Grand National Afternoon Tea
DESCRIPTION:
URL:https://www.bowsdenvillagehall.net/event/grand-national-afternoon-tea/
END:VEVENT
BEGIN:VEVENT
DTSTART;TZID=Europe/London:20240412T100000
DTEND;TZID=Europe/London:20240412T120000
DTSTAMP:20260420T211317
CREATED:20240201T141651Z
LAST-MODIFIED:20240201T142222Z
UID:3143-1712916000-1712923200@www.bowsdenvillagehall.net
SUMMARY:Bowsden Men’s Club
DESCRIPTION:
URL:https://www.bowsdenvillagehall.net/event/bowsden-mens-club-27/
END:VEVENT
BEGIN:VEVENT
DTSTART;TZID=Europe/London:20240405T100000
DTEND;TZID=Europe/London:20240405T120000
DTSTAMP:20260420T211317
CREATED:20240201T141655Z
LAST-MODIFIED:20240201T142238Z
UID:3144-1712311200-1712318400@www.bowsdenvillagehall.net
SUMMARY:Bowsden Men’s Club
DESCRIPTION:
URL:https://www.bowsdenvillagehall.net/event/bowsden-mens-club-28/
END:VEVENT
BEGIN:VEVENT
DTSTART;TZID=Europe/London:20240329T100000
DTEND;TZID=Europe/London:20240329T120000
DTSTAMP:20260420T211317
CREATED:20231122T202030Z
LAST-MODIFIED:20231122T202030Z
UID:2792-1711706400-1711713600@www.bowsdenvillagehall.net
SUMMARY:Bowsden Men’s Club
DESCRIPTION:
URL:https://www.bowsdenvillagehall.net/event/bowsden-mens-club-17/
END:VEVENT
BEGIN:VEVENT
DTSTART;TZID=Europe/London:20240328T103000
DTEND;TZID=Europe/London:20240328T113000
DTSTAMP:20260420T211317
CREATED:20231122T195109Z
LAST-MODIFIED:20231218T130201Z
UID:2750-1711621800-1711625400@www.bowsdenvillagehall.net
SUMMARY:Seat-ercise
DESCRIPTION:
URL:https://www.bowsdenvillagehall.net/event/flexercise-24/
END:VEVENT
BEGIN:VEVENT
DTSTART;TZID=Europe/London:20240323T190000
DTEND;TZID=Europe/London:20240323T230000
DTSTAMP:20260420T211317
CREATED:20240203T150550Z
LAST-MODIFIED:20240203T150550Z
UID:3198-1711220400-1711234800@www.bowsdenvillagehall.net
SUMMARY:Games Night
DESCRIPTION:
URL:https://www.bowsdenvillagehall.net/event/games-night/
END:VEVENT
BEGIN:VEVENT
DTSTART;TZID=Europe/London:20240322T100000
DTEND;TZID=Europe/London:20240322T120000
DTSTAMP:20260420T211317
CREATED:20231122T201948Z
LAST-MODIFIED:20231122T201948Z
UID:2790-1711101600-1711108800@www.bowsdenvillagehall.net
SUMMARY:Bowsden Men’s Club
DESCRIPTION:
URL:https://www.bowsdenvillagehall.net/event/bowsden-mens-club-16/
END:VEVENT
BEGIN:VEVENT
DTSTART;TZID=Europe/London:20240321T103000
DTEND;TZID=Europe/London:20240321T113000
DTSTAMP:20260420T211317
CREATED:20231122T195020Z
LAST-MODIFIED:20231218T130150Z
UID:2748-1711017000-1711020600@www.bowsdenvillagehall.net
SUMMARY:Seat-ercise
DESCRIPTION:
URL:https://www.bowsdenvillagehall.net/event/flexercise-23/
END:VEVENT
BEGIN:VEVENT
DTSTART;TZID=Europe/London:20240318T190000
DTEND;TZID=Europe/London:20240318T210000
DTSTAMP:20260420T211317
CREATED:20231129T075040Z
LAST-MODIFIED:20231129T075111Z
UID:2872-1710788400-1710795600@www.bowsdenvillagehall.net
SUMMARY:Bowsden Parish Council Meeting
DESCRIPTION:
URL:https://www.bowsdenvillagehall.net/event/bowsden-parish-council-meeting-9/
END:VEVENT
BEGIN:VEVENT
DTSTART;TZID=Europe/London:20240315T100000
DTEND;TZID=Europe/London:20240315T120000
DTSTAMP:20260420T211317
CREATED:20231122T201852Z
LAST-MODIFIED:20231122T201852Z
UID:2788-1710496800-1710504000@www.bowsdenvillagehall.net
SUMMARY:Bowsden Men’s Club
DESCRIPTION:
URL:https://www.bowsdenvillagehall.net/event/bowsden-mens-club-15/
END:VEVENT
BEGIN:VEVENT
DTSTART;TZID=Europe/London:20240314T103000
DTEND;TZID=Europe/London:20240314T113000
DTSTAMP:20260420T211317
CREATED:20231122T194928Z
LAST-MODIFIED:20231218T130138Z
UID:2746-1710412200-1710415800@www.bowsdenvillagehall.net
SUMMARY:Seat-ercise
DESCRIPTION:
URL:https://www.bowsdenvillagehall.net/event/flexercise-22/
END:VEVENT
BEGIN:VEVENT
DTSTART;TZID=Europe/London:20240308T100000
DTEND;TZID=Europe/London:20240308T120000
DTSTAMP:20260420T211317
CREATED:20231122T201804Z
LAST-MODIFIED:20231122T201804Z
UID:2786-1709892000-1709899200@www.bowsdenvillagehall.net
SUMMARY:Bowsden Men’s Club
DESCRIPTION:
URL:https://www.bowsdenvillagehall.net/event/bowsden-mens-club-14/
END:VEVENT
BEGIN:VEVENT
DTSTART;TZID=Europe/London:20240307T103000
DTEND;TZID=Europe/London:20240307T113000
DTSTAMP:20260420T211317
CREATED:20231122T194838Z
LAST-MODIFIED:20231218T130126Z
UID:2744-1709807400-1709811000@www.bowsdenvillagehall.net
SUMMARY:Seat-ercise
DESCRIPTION:
URL:https://www.bowsdenvillagehall.net/event/flexercise-21/
END:VEVENT
BEGIN:VEVENT
DTSTART;TZID=Europe/London:20240301T100000
DTEND;TZID=Europe/London:20240301T120000
DTSTAMP:20260420T211317
CREATED:20231122T201718Z
LAST-MODIFIED:20231122T201718Z
UID:2784-1709287200-1709294400@www.bowsdenvillagehall.net
SUMMARY:Bowsden Men’s Club
DESCRIPTION:
URL:https://www.bowsdenvillagehall.net/event/bowsden-mens-club-13/
END:VEVENT
BEGIN:VEVENT
DTSTART;TZID=Europe/London:20240229T103000
DTEND;TZID=Europe/London:20240229T113000
DTSTAMP:20260420T211317
CREATED:20231122T194747Z
LAST-MODIFIED:20231218T130112Z
UID:2742-1709202600-1709206200@www.bowsdenvillagehall.net
SUMMARY:Seat-ercise
DESCRIPTION:
URL:https://www.bowsdenvillagehall.net/event/flexercise-20/
END:VEVENT
BEGIN:VEVENT
DTSTART;TZID=Europe/London:20240223T100000
DTEND;TZID=Europe/London:20240223T120000
DTSTAMP:20260420T211317
CREATED:20231122T201618Z
LAST-MODIFIED:20231122T201618Z
UID:2782-1708682400-1708689600@www.bowsdenvillagehall.net
SUMMARY:Bowsden Men’s Club
DESCRIPTION:
URL:https://www.bowsdenvillagehall.net/event/bowsden-mens-club-12/
END:VEVENT
BEGIN:VEVENT
DTSTART;TZID=Europe/London:20240222T103000
DTEND;TZID=Europe/London:20240222T113000
DTSTAMP:20260420T211317
CREATED:20231122T194648Z
LAST-MODIFIED:20231218T130102Z
UID:2740-1708597800-1708601400@www.bowsdenvillagehall.net
SUMMARY:Seat-ercise
DESCRIPTION:
URL:https://www.bowsdenvillagehall.net/event/flexercise-19/
END:VEVENT
BEGIN:VEVENT
DTSTART;TZID=Europe/London:20240216T100000
DTEND;TZID=Europe/London:20240216T120000
DTSTAMP:20260420T211317
CREATED:20231122T202358Z
LAST-MODIFIED:20231122T202358Z
UID:2796-1708077600-1708084800@www.bowsdenvillagehall.net
SUMMARY:Bowsden Men’s Club
DESCRIPTION:
URL:https://www.bowsdenvillagehall.net/event/bowsden-mens-club-19/
END:VEVENT
BEGIN:VEVENT
DTSTART;TZID=Europe/London:20240215T103000
DTEND;TZID=Europe/London:20240215T113000
DTSTAMP:20260420T211317
CREATED:20231122T194548Z
LAST-MODIFIED:20231218T130052Z
UID:2738-1707993000-1707996600@www.bowsdenvillagehall.net
SUMMARY:Seat-ercise
DESCRIPTION:
URL:https://www.bowsdenvillagehall.net/event/flexercise-18/
END:VEVENT
BEGIN:VEVENT
DTSTART;TZID=Europe/London:20240209T100000
DTEND;TZID=Europe/London:20240209T120000
DTSTAMP:20260420T211317
CREATED:20231122T202307Z
LAST-MODIFIED:20231122T202307Z
UID:2794-1707472800-1707480000@www.bowsdenvillagehall.net
SUMMARY:Bowsden Men’s Club
DESCRIPTION:
URL:https://www.bowsdenvillagehall.net/event/bowsden-mens-club-18/
END:VEVENT
BEGIN:VEVENT
DTSTART;TZID=Europe/London:20240208T103000
DTEND;TZID=Europe/London:20240208T170000
DTSTAMP:20260420T211317
CREATED:20231122T194458Z
LAST-MODIFIED:20231218T130040Z
UID:2736-1707388200-1707411600@www.bowsdenvillagehall.net
SUMMARY:Seat-ercise
DESCRIPTION:
URL:https://www.bowsdenvillagehall.net/event/flexercise-17/
END:VEVENT
BEGIN:VEVENT
DTSTART;TZID=Europe/London:20240202T100000
DTEND;TZID=Europe/London:20240202T120000
DTSTAMP:20260420T211317
CREATED:20231122T201520Z
LAST-MODIFIED:20231122T201520Z
UID:2780-1706868000-1706875200@www.bowsdenvillagehall.net
SUMMARY:Bowsden Men’s Club
DESCRIPTION:
URL:https://www.bowsdenvillagehall.net/event/bowsden-mens-club-11/
END:VEVENT
BEGIN:VEVENT
DTSTART;TZID=Europe/London:20240201T103000
DTEND;TZID=Europe/London:20240201T113000
DTSTAMP:20260420T211317
CREATED:20231122T194406Z
LAST-MODIFIED:20231218T130023Z
UID:2734-1706783400-1706787000@www.bowsdenvillagehall.net
SUMMARY:Seat-ercise
DESCRIPTION:
URL:https://www.bowsdenvillagehall.net/event/flexercise-16/
END:VEVENT
BEGIN:VEVENT
DTSTART;TZID=Europe/London:20240126T100000
DTEND;TZID=Europe/London:20240126T120000
DTSTAMP:20260420T211317
CREATED:20231122T201430Z
LAST-MODIFIED:20231122T201430Z
UID:2778-1706263200-1706270400@www.bowsdenvillagehall.net
SUMMARY:Bowsden Men’s Club
DESCRIPTION:
URL:https://www.bowsdenvillagehall.net/event/bowsden-mens-club-10/
END:VEVENT
BEGIN:VEVENT
DTSTART;TZID=Europe/London:20240125T103000
DTEND;TZID=Europe/London:20240125T113000
DTSTAMP:20260420T211317
CREATED:20231122T194304Z
LAST-MODIFIED:20231218T130006Z
UID:2732-1706178600-1706182200@www.bowsdenvillagehall.net
SUMMARY:Seat-ercise
DESCRIPTION:
URL:https://www.bowsdenvillagehall.net/event/flexercise-15/
END:VEVENT
BEGIN:VEVENT
DTSTART;TZID=Europe/London:20240119T100000
DTEND;TZID=Europe/London:20240119T120000
DTSTAMP:20260420T211317
CREATED:20231122T201332Z
LAST-MODIFIED:20231122T201332Z
UID:2776-1705658400-1705665600@www.bowsdenvillagehall.net
SUMMARY:Bowsden Men’s Club
DESCRIPTION:
URL:https://www.bowsdenvillagehall.net/event/bowsden-mens-club-9/
END:VEVENT
BEGIN:VEVENT
DTSTART;TZID=Europe/London:20240118T103000
DTEND;TZID=Europe/London:20240118T113000
DTSTAMP:20260420T211317
CREATED:20231122T194147Z
LAST-MODIFIED:20231218T125950Z
UID:2730-1705573800-1705577400@www.bowsdenvillagehall.net
SUMMARY:Seat-ercise
DESCRIPTION:
URL:https://www.bowsdenvillagehall.net/event/flexercise-14/
END:VEVENT
BEGIN:VEVENT
DTSTART;TZID=Europe/London:20240112T100000
DTEND;TZID=Europe/London:20240112T120000
DTSTAMP:20260420T211317
CREATED:20231122T201229Z
LAST-MODIFIED:20231122T201229Z
UID:2774-1705053600-1705060800@www.bowsdenvillagehall.net
SUMMARY:Bowsden Men’s Club
DESCRIPTION:
URL:https://www.bowsdenvillagehall.net/event/bowsden-mens-club-8/
END:VEVENT
BEGIN:VEVENT
DTSTART;TZID=Europe/London:20240111T103000
DTEND;TZID=Europe/London:20240111T113000
DTSTAMP:20260420T211317
CREATED:20231122T194054Z
LAST-MODIFIED:20231218T125904Z
UID:2728-1704969000-1704972600@www.bowsdenvillagehall.net
SUMMARY:Seat-ercise
DESCRIPTION:
URL:https://www.bowsdenvillagehall.net/event/flexercise-13/
END:VEVENT
END:VCALENDAR