BEGIN:VCALENDAR
VERSION:2.0
PRODID:-//Bowsden Village Hall - ECPv6.15.20//NONSGML v1.0//EN
CALSCALE:GREGORIAN
METHOD:PUBLISH
X-WR-CALNAME:Bowsden Village Hall
X-ORIGINAL-URL:https://www.bowsdenvillagehall.net
X-WR-CALDESC:Events for Bowsden Village Hall
REFRESH-INTERVAL;VALUE=DURATION:PT1H
X-Robots-Tag:noindex
X-PUBLISHED-TTL:PT1H
BEGIN:VTIMEZONE
TZID:Europe/London
BEGIN:DAYLIGHT
TZOFFSETFROM:+0000
TZOFFSETTO:+0100
TZNAME:BST
DTSTART:20230326T010000
END:DAYLIGHT
BEGIN:STANDARD
TZOFFSETFROM:+0100
TZOFFSETTO:+0000
TZNAME:GMT
DTSTART:20231029T010000
END:STANDARD
BEGIN:DAYLIGHT
TZOFFSETFROM:+0000
TZOFFSETTO:+0100
TZNAME:BST
DTSTART:20240331T010000
END:DAYLIGHT
BEGIN:STANDARD
TZOFFSETFROM:+0100
TZOFFSETTO:+0000
TZNAME:GMT
DTSTART:20241027T010000
END:STANDARD
BEGIN:DAYLIGHT
TZOFFSETFROM:+0000
TZOFFSETTO:+0100
TZNAME:BST
DTSTART:20250330T010000
END:DAYLIGHT
BEGIN:STANDARD
TZOFFSETFROM:+0100
TZOFFSETTO:+0000
TZNAME:GMT
DTSTART:20251026T010000
END:STANDARD
END:VTIMEZONE
BEGIN:VEVENT
DTSTART;TZID=Europe/London:20241201T150000
DTEND;TZID=Europe/London:20241201T180000
DTSTAMP:20260420T171555
CREATED:20240603T150224Z
LAST-MODIFIED:20240603T160520Z
UID:3822-1733065200-1733076000@www.bowsdenvillagehall.net
SUMMARY:Games Afternoon
DESCRIPTION:Regular event\, first Sunday of every month
URL:https://www.bowsdenvillagehall.net/event/games-afternoon-6/
LOCATION:Northumberland
END:VEVENT
BEGIN:VEVENT
DTSTART;TZID=Europe/London:20241125T113000
DTEND;TZID=Europe/London:20241125T115000
DTSTAMP:20260420T171555
CREATED:20241119T114208Z
LAST-MODIFIED:20241119T114320Z
UID:4298-1732534200-1732535400@www.bowsdenvillagehall.net
SUMMARY:Heating Test
DESCRIPTION:Hall Available
URL:https://www.bowsdenvillagehall.net/event/heating-test/
LOCATION:Northumberland
END:VEVENT
BEGIN:VEVENT
DTSTART;TZID=Europe/London:20241118T140000
DTEND;TZID=Europe/London:20241118T150000
DTSTAMP:20260420T171555
CREATED:20241118T092335Z
LAST-MODIFIED:20241118T120908Z
UID:4295-1731938400-1731942000@www.bowsdenvillagehall.net
SUMMARY:Heating Test
DESCRIPTION:Heating Test
URL:https://www.bowsdenvillagehall.net/event/4295/
LOCATION:Northumberland
END:VEVENT
BEGIN:VEVENT
DTSTART;TZID=Europe/London:20241114T170000
DTEND;TZID=Europe/London:20241114T220000
DTSTAMP:20260420T171555
CREATED:20241014T181432Z
LAST-MODIFIED:20241027T072825Z
UID:4241-1731603600-1731621600@www.bowsdenvillagehall.net
SUMMARY:CSU/NFU partner event
DESCRIPTION:
URL:https://www.bowsdenvillagehall.net/event/csu-nfu-partner-event/
LOCATION:Northumberland
END:VEVENT
BEGIN:VEVENT
DTSTART;TZID=Europe/London:20241108T193000
DTEND;TZID=Europe/London:20241108T213000
DTSTAMP:20260420T171555
CREATED:20241019T163859Z
LAST-MODIFIED:20241019T163859Z
UID:4243-1731094200-1731101400@www.bowsdenvillagehall.net
SUMMARY:A talk by Graeme Reavley about his work in Ukraine
DESCRIPTION:
URL:https://www.bowsdenvillagehall.net/event/a-talk-by-graeme-reavley-about-his-work-in-ukraine/
LOCATION:Northumberland
END:VEVENT
BEGIN:VEVENT
DTSTART;TZID=Europe/London:20241103T150000
DTEND;TZID=Europe/London:20241103T180000
DTSTAMP:20260420T171555
CREATED:20240603T150231Z
LAST-MODIFIED:20240603T160444Z
UID:3823-1730646000-1730656800@www.bowsdenvillagehall.net
SUMMARY:Games Afternoon
DESCRIPTION:Regular event\, first Sunday of every month
URL:https://www.bowsdenvillagehall.net/event/games-afternoon-5/
LOCATION:Northumberland
END:VEVENT
BEGIN:VEVENT
DTSTART;TZID=Europe/London:20241031T133000
DTEND;TZID=Europe/London:20241031T143000
DTSTAMP:20260420T171555
CREATED:20240913T155217Z
LAST-MODIFIED:20240913T155217Z
UID:4202-1730381400-1730385000@www.bowsdenvillagehall.net
SUMMARY:Bowsden Garden Club:talk on growing your own garlic
DESCRIPTION:
URL:https://www.bowsdenvillagehall.net/event/bowsden-garden-clubtalk-on-growing-your-own-garlic/
LOCATION:Northumberland
END:VEVENT
BEGIN:VEVENT
DTSTART;TZID=Europe/London:20241027T193000
DTEND;TZID=Europe/London:20241027T210000
DTSTAMP:20260420T171555
CREATED:20241024T115510Z
LAST-MODIFIED:20241024T115510Z
UID:4265-1730057400-1730062800@www.bowsdenvillagehall.net
SUMMARY:Heating Test 6
DESCRIPTION:
URL:https://www.bowsdenvillagehall.net/event/heating-test-6/
LOCATION:Bowsden Village Hall\, Bowsden\, Berwick-upon-Tweed\, Northumberland\, TD15 2TW\, United Kingdom
END:VEVENT
BEGIN:VEVENT
DTSTART;TZID=Europe/London:20241027T100000
DTEND;TZID=Europe/London:20241027T120000
DTSTAMP:20260420T171555
CREATED:20241024T115331Z
LAST-MODIFIED:20241024T115331Z
UID:4262-1730023200-1730030400@www.bowsdenvillagehall.net
SUMMARY:Heating Test 4
DESCRIPTION:
URL:https://www.bowsdenvillagehall.net/event/heating-test-4/
LOCATION:Bowsden Village Hall\, Bowsden\, Berwick-upon-Tweed\, Northumberland\, TD15 2TW\, United Kingdom
END:VEVENT
BEGIN:VEVENT
DTSTART;TZID=Europe/London:20241025T190000
DTEND;TZID=Europe/London:20241025T230000
DTSTAMP:20260420T171555
CREATED:20240819T114833Z
LAST-MODIFIED:20241024T203528Z
UID:4148-1729882800-1729897200@www.bowsdenvillagehall.net
SUMMARY:Halloween Quiz
DESCRIPTION:InspireFunction=’Man’\nInspireTemperature=’19’\nInspireProfile=’1′\nInspireEndFunction=’Off’\nInspireEndTemperature=’7’\nInspireEndProfile=’1′
URL:https://www.bowsdenvillagehall.net/event/halloween-quiz/
LOCATION:Northumberland
END:VEVENT
BEGIN:VEVENT
DTSTART;TZID=Europe/London:20241024T144500
DTEND;TZID=Europe/London:20241024T150000
DTSTAMP:20260420T171555
CREATED:20241024T131138Z
LAST-MODIFIED:20241024T132522Z
UID:4271-1729781100-1729782000@www.bowsdenvillagehall.net
SUMMARY:Heating test p
DESCRIPTION:InspireFunction=’Auto’\nInspireTemperature=’19’\nInspireProfile=’1′\nInspireEndFunction=’Auto’\nInspireEndTemperature=’15’\nInspireEndProfile=’1′
URL:https://www.bowsdenvillagehall.net/event/heating-test-p/
LOCATION:Northumberland
END:VEVENT
BEGIN:VEVENT
DTSTART;TZID=Europe/London:20241024T120000
DTEND;TZID=Europe/London:20241024T123000
DTSTAMP:20260420T171555
CREATED:20241024T102002Z
LAST-MODIFIED:20241024T102002Z
UID:4260-1729771200-1729773000@www.bowsdenvillagehall.net
SUMMARY:Heating Test 3
DESCRIPTION:
URL:https://www.bowsdenvillagehall.net/event/heating-test-3/
LOCATION:Bowsden Village Hall\, Bowsden\, Berwick-upon-Tweed\, Northumberland\, TD15 2TW\, United Kingdom
END:VEVENT
BEGIN:VEVENT
DTSTART;TZID=Europe/London:20241021T183000
DTEND;TZID=Europe/London:20241021T193000
DTSTAMP:20260420T171555
CREATED:20241021T102710Z
LAST-MODIFIED:20241021T102710Z
UID:4253-1729535400-1729539000@www.bowsdenvillagehall.net
SUMMARY:Heating Test 2
DESCRIPTION:
URL:https://www.bowsdenvillagehall.net/event/heating-test-2-2/
LOCATION:Bowsden Village Hall\, Bowsden\, Berwick-upon-Tweed\, Northumberland\, TD15 2TW\, United Kingdom
END:VEVENT
BEGIN:VEVENT
DTSTART;TZID=Europe/London:20241021T090000
DTEND;TZID=Europe/London:20241021T130000
DTSTAMP:20260420T171555
CREATED:20241020T170503Z
LAST-MODIFIED:20241020T170503Z
UID:4249-1729501200-1729515600@www.bowsdenvillagehall.net
SUMMARY:Heating Test
DESCRIPTION:
URL:https://www.bowsdenvillagehall.net/event/heating-test-2/
LOCATION:Bowsden Village Hall\, Bowsden\, Berwick-upon-Tweed\, Northumberland\, TD15 2TW\, United Kingdom
END:VEVENT
BEGIN:VEVENT
DTSTART;TZID=Europe/London:20241011T190000
DTEND;TZID=Europe/London:20241011T223000
DTSTAMP:20260420T171555
CREATED:20240824T120322Z
LAST-MODIFIED:20240824T120322Z
UID:4168-1728673200-1728685800@www.bowsdenvillagehall.net
SUMMARY:Bowsden Live Music Night with Driftin Back
DESCRIPTION:
URL:https://www.bowsdenvillagehall.net/event/bowsden-live-music-night-with-driftin-back/
LOCATION:Northumberland
END:VEVENT
BEGIN:VEVENT
DTSTART;TZID=Europe/London:20241006T150000
DTEND;TZID=Europe/London:20241006T180000
DTSTAMP:20260420T171555
CREATED:20240603T150236Z
LAST-MODIFIED:20240603T160409Z
UID:3824-1728226800-1728237600@www.bowsdenvillagehall.net
SUMMARY:Games Afternoon
DESCRIPTION:Regular event\, first Sunday of every month
URL:https://www.bowsdenvillagehall.net/event/games-afternoon-4/
LOCATION:Northumberland
END:VEVENT
BEGIN:VEVENT
DTSTART;TZID=Europe/London:20240925T100000
DTEND;TZID=Europe/London:20240925T130000
DTSTAMP:20260420T171555
CREATED:20240718T124202Z
LAST-MODIFIED:20240718T124202Z
UID:3993-1727258400-1727269200@www.bowsdenvillagehall.net
SUMMARY:Health and Wellbeing Roadshow
DESCRIPTION:
URL:https://www.bowsdenvillagehall.net/event/health-and-wellbeing-roadshow/
LOCATION:Northumberland
END:VEVENT
BEGIN:VEVENT
DTSTART;TZID=Europe/London:20240914T184500
DTEND;TZID=Europe/London:20240914T230000
DTSTAMP:20260420T171555
CREATED:20240604T122015Z
LAST-MODIFIED:20240604T122108Z
UID:3939-1726339500-1726354800@www.bowsdenvillagehall.net
SUMMARY:Livestream The Last Night of the Proms
DESCRIPTION:Join us for this popular annual event. For tickets and further details contact Suzy on 07401 717765 \n 
URL:https://www.bowsdenvillagehall.net/event/livestream-the-last-night-of-the-proms/
LOCATION:Northumberland
END:VEVENT
BEGIN:VEVENT
DTSTART;TZID=Europe/London:20240914T100000
DTEND;TZID=Europe/London:20240914T120000
DTSTAMP:20260420T171555
CREATED:20240730T164311Z
LAST-MODIFIED:20240905T062920Z
UID:4011-1726308000-1726315200@www.bowsdenvillagehall.net
SUMMARY:MacMillan Coffee Morning POSTPONED
DESCRIPTION:
URL:https://www.bowsdenvillagehall.net/event/macmillan-coffee-morning/
LOCATION:Northumberland
END:VEVENT
BEGIN:VEVENT
DTSTART;TZID=Europe/London:20240907T100000
DTEND;TZID=Europe/London:20240907T120000
DTSTAMP:20260420T171555
CREATED:20240201T143501Z
LAST-MODIFIED:20240905T134713Z
UID:3162-1725703200-1725710400@www.bowsdenvillagehall.net
SUMMARY:Bowsden Coffee Morning including Citizens Advice Northumberland
DESCRIPTION:
URL:https://www.bowsdenvillagehall.net/event/bowsden-coffee-morning-31/
LOCATION:Northumberland
END:VEVENT
BEGIN:VEVENT
DTSTART;TZID=Europe/London:20240802T063000
DTEND;TZID=Europe/London:20240802T220000
DTSTAMP:20260420T171555
CREATED:20240726T075234Z
LAST-MODIFIED:20240726T075234Z
UID:4001-1722580200-1722636000@www.bowsdenvillagehall.net
SUMMARY:Bowsden Film Show
DESCRIPTION:Wicked Little Letters
URL:https://www.bowsdenvillagehall.net/event/bowsden-film-show/
LOCATION:Northumberland
END:VEVENT
BEGIN:VEVENT
DTSTART;TZID=Europe/London:20240629T070000
DTEND;TZID=Europe/London:20240629T233000
DTSTAMP:20260420T171555
CREATED:20240429T064714Z
LAST-MODIFIED:20240429T064714Z
UID:3675-1719644400-1719703800@www.bowsdenvillagehall.net
SUMMARY:Driftin' Back 50's 60's Band
DESCRIPTION:
URL:https://www.bowsdenvillagehall.net/event/driftin-back-50s-60s-band/
LOCATION:Northumberland
END:VEVENT
BEGIN:VEVENT
DTSTART;TZID=Europe/London:20240627T090000
DTEND;TZID=Europe/London:20240627T170000
DTSTAMP:20260420T171555
CREATED:20240518T074919Z
LAST-MODIFIED:20240518T090349Z
UID:3781-1719478800-1719507600@www.bowsdenvillagehall.net
SUMMARY:Hall closed for maintenance
DESCRIPTION:
URL:https://www.bowsdenvillagehall.net/event/hall-closed-for-maintenance-4/
LOCATION:Northumberland
END:VEVENT
BEGIN:VEVENT
DTSTART;TZID=Europe/London:20240626T090000
DTEND;TZID=Europe/London:20240626T170000
DTSTAMP:20260420T171555
CREATED:20240518T074926Z
LAST-MODIFIED:20240518T090211Z
UID:3782-1719392400-1719421200@www.bowsdenvillagehall.net
SUMMARY:Hall closed for maintenance
DESCRIPTION:
URL:https://www.bowsdenvillagehall.net/event/hall-closed-for-maintenance-3/
LOCATION:Northumberland
END:VEVENT
BEGIN:VEVENT
DTSTART;TZID=Europe/London:20240625T090000
DTEND;TZID=Europe/London:20240625T170000
DTSTAMP:20260420T171555
CREATED:20240518T074930Z
LAST-MODIFIED:20240518T090053Z
UID:3783-1719306000-1719334800@www.bowsdenvillagehall.net
SUMMARY:Hall closed for maintenance
DESCRIPTION:
URL:https://www.bowsdenvillagehall.net/event/hall-closed-for-maintenance-2/
LOCATION:Northumberland
END:VEVENT
BEGIN:VEVENT
DTSTART;TZID=Europe/London:20240624T090000
DTEND;TZID=Europe/London:20240624T170000
DTSTAMP:20260420T171555
CREATED:20240518T084845Z
LAST-MODIFIED:20240518T090310Z
UID:3779-1719219600-1719248400@www.bowsdenvillagehall.net
SUMMARY:Hall closed for maintenance
DESCRIPTION:
URL:https://www.bowsdenvillagehall.net/event/hall-closed-for-maintenance/
LOCATION:Northumberland
END:VEVENT
BEGIN:VEVENT
DTSTART;TZID=Europe/London:20240619T150000
DTEND;TZID=Europe/London:20240619T180000
DTSTAMP:20260420T171555
CREATED:20240610T115749Z
LAST-MODIFIED:20240618T054713Z
UID:3960-1718809200-1718820000@www.bowsdenvillagehall.net
SUMMARY:Q&A with Labour Candidate
DESCRIPTION:
URL:https://www.bowsdenvillagehall.net/event/private-function-4/
LOCATION:Northumberland
END:VEVENT
BEGIN:VEVENT
DTSTART;TZID=Europe/London:20240531T100000
DTEND;TZID=Europe/London:20240531T120000
DTSTAMP:20260420T171555
CREATED:20240201T141502Z
LAST-MODIFIED:20240201T141522Z
UID:3135-1717149600-1717156800@www.bowsdenvillagehall.net
SUMMARY:Bowsden Men’s Club
DESCRIPTION:
URL:https://www.bowsdenvillagehall.net/event/bowsden-mens-club-20/
LOCATION:Northumberland
END:VEVENT
BEGIN:VEVENT
DTSTART;TZID=Europe/London:20240524T100000
DTEND;TZID=Europe/London:20240524T120000
DTSTAMP:20260420T171555
CREATED:20240201T141613Z
LAST-MODIFIED:20240201T141712Z
UID:3137-1716544800-1716552000@www.bowsdenvillagehall.net
SUMMARY:Bowsden Men’s Club
DESCRIPTION:
URL:https://www.bowsdenvillagehall.net/event/bowsden-mens-club-21/
LOCATION:Northumberland
END:VEVENT
BEGIN:VEVENT
DTSTART;TZID=Europe/London:20240518T180000
DTEND;TZID=Europe/London:20240518T230000
DTSTAMP:20260420T171555
CREATED:20240408T134328Z
LAST-MODIFIED:20240408T134328Z
UID:3350-1716055200-1716073200@www.bowsdenvillagehall.net
SUMMARY:Christian Aid Charity Quiz
DESCRIPTION:
URL:https://www.bowsdenvillagehall.net/event/christian-aid-charity-quiz/
LOCATION:Northumberland
END:VEVENT
END:VCALENDAR