BEGIN:VCALENDAR
VERSION:2.0
PRODID:-//Bowsden Village Hall - ECPv6.15.20//NONSGML v1.0//EN
CALSCALE:GREGORIAN
METHOD:PUBLISH
X-WR-CALNAME:Bowsden Village Hall
X-ORIGINAL-URL:https://www.bowsdenvillagehall.net
X-WR-CALDESC:Events for Bowsden Village Hall
REFRESH-INTERVAL;VALUE=DURATION:PT1H
X-Robots-Tag:noindex
X-PUBLISHED-TTL:PT1H
BEGIN:VTIMEZONE
TZID:Europe/London
BEGIN:DAYLIGHT
TZOFFSETFROM:+0000
TZOFFSETTO:+0100
TZNAME:BST
DTSTART:20230326T010000
END:DAYLIGHT
BEGIN:STANDARD
TZOFFSETFROM:+0100
TZOFFSETTO:+0000
TZNAME:GMT
DTSTART:20231029T010000
END:STANDARD
BEGIN:DAYLIGHT
TZOFFSETFROM:+0000
TZOFFSETTO:+0100
TZNAME:BST
DTSTART:20240331T010000
END:DAYLIGHT
BEGIN:STANDARD
TZOFFSETFROM:+0100
TZOFFSETTO:+0000
TZNAME:GMT
DTSTART:20241027T010000
END:STANDARD
BEGIN:DAYLIGHT
TZOFFSETFROM:+0000
TZOFFSETTO:+0100
TZNAME:BST
DTSTART:20250330T010000
END:DAYLIGHT
BEGIN:STANDARD
TZOFFSETFROM:+0100
TZOFFSETTO:+0000
TZNAME:GMT
DTSTART:20251026T010000
END:STANDARD
BEGIN:DAYLIGHT
TZOFFSETFROM:+0000
TZOFFSETTO:+0100
TZNAME:BST
DTSTART:20260329T010000
END:DAYLIGHT
BEGIN:STANDARD
TZOFFSETFROM:+0100
TZOFFSETTO:+0000
TZNAME:GMT
DTSTART:20261025T010000
END:STANDARD
END:VTIMEZONE
BEGIN:VEVENT
DTSTART;TZID=Europe/London:20250607T190000
DTEND;TZID=Europe/London:20250607T230000
DTSTAMP:20260420T083913
CREATED:20240619T135909Z
LAST-MODIFIED:20250404T155342Z
UID:3970-1749322800-1749337200@www.bowsdenvillagehall.net
SUMMARY:Quiz Night
DESCRIPTION:Fund Raiser or the Men’s Group
URL:https://www.bowsdenvillagehall.net/event/charity-quiz-night-2/
LOCATION:Northumberland
END:VEVENT
BEGIN:VEVENT
DTSTART;TZID=Europe/London:20250524T090000
DTEND;TZID=Europe/London:20250524T120000
DTSTAMP:20260420T083913
CREATED:20250325T125008Z
LAST-MODIFIED:20250325T125008Z
UID:4802-1748077200-1748088000@www.bowsdenvillagehall.net
SUMMARY:Amnesty International Coffee Morning
DESCRIPTION:
URL:https://www.bowsdenvillagehall.net/event/amnesty-international-coffee-morning/
LOCATION:Northumberland
END:VEVENT
BEGIN:VEVENT
DTSTART;TZID=Europe/London:20250517T183000
DTEND;TZID=Europe/London:20250517T233000
DTSTAMP:20260420T083913
CREATED:20231106T130256Z
LAST-MODIFIED:20250404T161323Z
UID:2618-1747506600-1747524600@www.bowsdenvillagehall.net
SUMMARY:Eurovision 2025
DESCRIPTION:Join us for the live-streamed Eurovision Grand Final. Doors open at 6.30 pm Celebrate the world’s biggest song contest and enjoy the show on the big screen while sipping delicious drinks and nibbling tasty treats £3 entry including a free drink. Paid bar afterwards. \n  \n 
URL:https://www.bowsdenvillagehall.net/event/eurovision-livestream-7-00pm-till-late/
LOCATION:Northumberland
END:VEVENT
BEGIN:VEVENT
DTSTART;TZID=Europe/London:20250510T190000
DTEND;TZID=Europe/London:20250510T230000
DTSTAMP:20260420T083913
CREATED:20230929T143127Z
LAST-MODIFIED:20250416T104251Z
UID:2360-1746903600-1746918000@www.bowsdenvillagehall.net
SUMMARY:Charity Night
DESCRIPTION:Mammoth tractor Ride Land’s End to John O’Groats raising money for Cancer Research UK and Pickups For Peace. \n  \n 
URL:https://www.bowsdenvillagehall.net/event/charity-quiz-night/
LOCATION:Northumberland
END:VEVENT
BEGIN:VEVENT
DTSTART;TZID=Europe/London:20250506T190000
DTEND;TZID=Europe/London:20250506T201500
DTSTAMP:20260420T083913
CREATED:20240316T171456Z
LAST-MODIFIED:20250421T140849Z
UID:3245-1746558000-1746562500@www.bowsdenvillagehall.net
SUMMARY:Bowsden Parish Council AGM\, Parish Annual Meeting and Ordinary Meeting
DESCRIPTION:Our Annual Meeting plus AGM and Ordinary Meeting takes place for residents to have their say.
URL:https://www.bowsdenvillagehall.net/event/bowsden-parish-council-agm-parish-annual-meeting-and-ordinary-meeting/
LOCATION:Northumberland
END:VEVENT
BEGIN:VEVENT
DTSTART;TZID=Europe/London:20250501T061500
DTEND;TZID=Europe/London:20250501T221500
DTSTAMP:20260420T083913
CREATED:20231214T132527Z
LAST-MODIFIED:20250404T202847Z
UID:2902-1746080100-1746137700@www.bowsdenvillagehall.net
SUMMARY:Polling Station - Local Elections
DESCRIPTION:
URL:https://www.bowsdenvillagehall.net/event/polling-station/
LOCATION:Northumberland
END:VEVENT
BEGIN:VEVENT
DTSTART;TZID=Europe/London:20250425T190000
DTEND;TZID=Europe/London:20250425T230000
DTSTAMP:20260420T083913
CREATED:20250404T145928Z
LAST-MODIFIED:20250404T160019Z
UID:4817-1745607600-1745622000@www.bowsdenvillagehall.net
SUMMARY:Live Music Evening
DESCRIPTION:The Mellow Tones. Entry by donation
URL:https://www.bowsdenvillagehall.net/event/live-music-evening/
LOCATION:Northumberland
END:VEVENT
BEGIN:VEVENT
DTSTART;TZID=Europe/London:20250424T190000
DTEND;TZID=Europe/London:20250424T210000
DTSTAMP:20260420T083913
CREATED:20250412T203239Z
LAST-MODIFIED:20250413T061243Z
UID:4830-1745521200-1745528400@www.bowsdenvillagehall.net
SUMMARY:Meeting
DESCRIPTION:
URL:https://www.bowsdenvillagehall.net/event/private-event/
LOCATION:Northumberland
END:VEVENT
BEGIN:VEVENT
DTSTART;TZID=Europe/London:20250410T113000
DTEND;TZID=Europe/London:20250410T113000
DTSTAMP:20260420T083913
CREATED:20250222T160419Z
LAST-MODIFIED:20250222T160606Z
UID:4692-1744284600-1744284600@www.bowsdenvillagehall.net
SUMMARY:Lent Lunches and Discussion for Lowick\, Ford and Ancroft churches
DESCRIPTION:
URL:https://www.bowsdenvillagehall.net/event/lent-lunches-and-discussion-for-lowick-ford-and-ancroft-churches-5/
LOCATION:Northumberland
END:VEVENT
BEGIN:VEVENT
DTSTART;TZID=Europe/London:20250403T113000
DTEND;TZID=Europe/London:20250403T140000
DTSTAMP:20260420T083913
CREATED:20250222T160414Z
LAST-MODIFIED:20250222T160544Z
UID:4691-1743679800-1743688800@www.bowsdenvillagehall.net
SUMMARY:Lent Lunches and Discussion for Lowick\, Ford and Ancroft churches
DESCRIPTION:
URL:https://www.bowsdenvillagehall.net/event/lent-lunches-and-discussion-for-lowick-ford-and-ancroft-churches-4/
LOCATION:Northumberland
END:VEVENT
BEGIN:VEVENT
DTSTART;TZID=Europe/London:20250327T113000
DTEND;TZID=Europe/London:20250327T140000
DTSTAMP:20260420T083913
CREATED:20250222T160410Z
LAST-MODIFIED:20250222T160523Z
UID:4690-1743075000-1743084000@www.bowsdenvillagehall.net
SUMMARY:Lent Lunches and Discussion for Lowick\, Ford and Ancroft churches
DESCRIPTION:
URL:https://www.bowsdenvillagehall.net/event/lent-lunches-and-discussion-for-lowick-ford-and-ancroft-churches-3/
LOCATION:Northumberland
END:VEVENT
BEGIN:VEVENT
DTSTART;TZID=Europe/London:20250325T190000
DTEND;TZID=Europe/London:20250325T210000
DTSTAMP:20260420T083913
CREATED:20231122T204044Z
LAST-MODIFIED:20241128T074949Z
UID:2832-1742929200-1742936400@www.bowsdenvillagehall.net
SUMMARY:Carpet Bowls
DESCRIPTION:
URL:https://www.bowsdenvillagehall.net/event/carpet-bowls-68/
LOCATION:Northumberland
END:VEVENT
BEGIN:VEVENT
DTSTART;TZID=Europe/London:20250321T190000
DTEND;TZID=Europe/London:20250321T230000
DTSTAMP:20260420T083913
CREATED:20250211T202740Z
LAST-MODIFIED:20250211T202953Z
UID:4676-1742583600-1742598000@www.bowsdenvillagehall.net
SUMMARY:Bowsden Live Music Night with Full Stottie
DESCRIPTION:
URL:https://www.bowsdenvillagehall.net/event/bowsden-live-music-night-with-full-stottie/
LOCATION:Northumberland
END:VEVENT
BEGIN:VEVENT
DTSTART;TZID=Europe/London:20250320T113000
DTEND;TZID=Europe/London:20250320T140000
DTSTAMP:20260420T083913
CREATED:20250222T160402Z
LAST-MODIFIED:20250222T160459Z
UID:4689-1742470200-1742479200@www.bowsdenvillagehall.net
SUMMARY:Lent Lunches and Discussion for Lowick\, Ford and Ancroft churches
DESCRIPTION:
URL:https://www.bowsdenvillagehall.net/event/lent-lunches-and-discussion-for-lowick-ford-and-ancroft-churches-2/
LOCATION:Northumberland
END:VEVENT
BEGIN:VEVENT
DTSTART;TZID=Europe/London:20250318T190000
DTEND;TZID=Europe/London:20250318T210000
DTSTAMP:20260420T083913
CREATED:20231122T203957Z
LAST-MODIFIED:20241128T074853Z
UID:2830-1742324400-1742331600@www.bowsdenvillagehall.net
SUMMARY:Carpet Bowls
DESCRIPTION:
URL:https://www.bowsdenvillagehall.net/event/carpet-bowls-67/
LOCATION:Northumberland
END:VEVENT
BEGIN:VEVENT
DTSTART;TZID=Europe/London:20250313T113000
DTEND;TZID=Europe/London:20250313T140000
DTSTAMP:20260420T083913
CREATED:20250222T160338Z
LAST-MODIFIED:20250222T160338Z
UID:4687-1741865400-1741874400@www.bowsdenvillagehall.net
SUMMARY:Lent Lunches and Discussion for Lowick\, Ford and Ancroft churches
DESCRIPTION:
URL:https://www.bowsdenvillagehall.net/event/lent-lunches-and-discussion-for-lowick-ford-and-ancroft-churches/
LOCATION:Northumberland
END:VEVENT
BEGIN:VEVENT
DTSTART;TZID=Europe/London:20250310T123000
DTEND;TZID=Europe/London:20250310T163000
DTSTAMP:20260420T083913
CREATED:20241205T194238Z
LAST-MODIFIED:20250228T091834Z
UID:4321-1741609800-1741624200@www.bowsdenvillagehall.net
SUMMARY:National theatre production ENCORE
DESCRIPTION:Second screening of the National theatre production of:  THE IMPORTANCE OF BEING EARNEST
URL:https://www.bowsdenvillagehall.net/event/national-theatre-live-production-2/
LOCATION:Northumberland
END:VEVENT
BEGIN:VEVENT
DTSTART;TZID=Europe/London:20250308T093000
DTEND;TZID=Europe/London:20250308T133000
DTSTAMP:20260420T083913
CREATED:20240124T145053Z
LAST-MODIFIED:20250116T160111Z
UID:2990-1741426200-1741440600@www.bowsdenvillagehall.net
SUMMARY:Private Booking
DESCRIPTION:
URL:https://www.bowsdenvillagehall.net/event/private-booking-2/
LOCATION:Northumberland
END:VEVENT
BEGIN:VEVENT
DTSTART;TZID=Europe/London:20250228T190000
DTEND;TZID=Europe/London:20250228T230000
DTSTAMP:20260420T083913
CREATED:20240824T093109Z
LAST-MODIFIED:20250127T135537Z
UID:4162-1740769200-1740783600@www.bowsdenvillagehall.net
SUMMARY:Bowsden Live Music Night - Jazz with Met Office
DESCRIPTION:  \n 
URL:https://www.bowsdenvillagehall.net/event/bowsden-live-music-night/
LOCATION:Northumberland
END:VEVENT
BEGIN:VEVENT
DTSTART;TZID=Europe/London:20250215T100000
DTEND;TZID=Europe/London:20250215T160000
DTSTAMP:20260420T083913
CREATED:20250116T160152Z
LAST-MODIFIED:20250116T160944Z
UID:4405-1739613600-1739635200@www.bowsdenvillagehall.net
SUMMARY:Private booking
DESCRIPTION:
URL:https://www.bowsdenvillagehall.net/event/private-booking-3/
LOCATION:Northumberland
END:VEVENT
BEGIN:VEVENT
DTSTART;TZID=Europe/London:20250125T190000
DTEND;TZID=Europe/London:20250125T230000
DTSTAMP:20260420T083913
CREATED:20241101T215628Z
LAST-MODIFIED:20241101T215628Z
UID:4285-1737831600-1737846000@www.bowsdenvillagehall.net
SUMMARY:Burns Night
DESCRIPTION:
URL:https://www.bowsdenvillagehall.net/event/burns-night/
LOCATION:Northumberland
END:VEVENT
BEGIN:VEVENT
DTSTART;TZID=Europe/London:20250123T190000
DTEND;TZID=Europe/London:20250123T203000
DTSTAMP:20260420T083913
CREATED:20230926T094533Z
LAST-MODIFIED:20241205T202537Z
UID:2349-1737658800-1737664200@www.bowsdenvillagehall.net
SUMMARY:BVH Committee Meeting
DESCRIPTION:
URL:https://www.bowsdenvillagehall.net/event/bvh-committee-meeting-9/
LOCATION:Northumberland
END:VEVENT
BEGIN:VEVENT
DTSTART;TZID=Europe/London:20250121T060000
DTEND;TZID=Europe/London:20250121T060000
DTSTAMP:20260420T083913
CREATED:20250112T230055Z
LAST-MODIFIED:20250112T230153Z
UID:4397-1737439200-1737439200@www.bowsdenvillagehall.net
SUMMARY:
DESCRIPTION:Heating Test
URL:https://www.bowsdenvillagehall.net/event/4397/
LOCATION:Northumberland
END:VEVENT
BEGIN:VEVENT
DTSTART;TZID=Europe/London:20250119T130000
DTEND;TZID=Europe/London:20250119T160000
DTSTAMP:20260420T083913
CREATED:20250114T072609Z
LAST-MODIFIED:20250114T160946Z
UID:4399-1737291600-1737302400@www.bowsdenvillagehall.net
SUMMARY:Bowsden Film Matinee: Conclave
DESCRIPTION:
URL:https://www.bowsdenvillagehall.net/event/bowsden-film-matinee-conclave/
LOCATION:Northumberland
END:VEVENT
BEGIN:VEVENT
DTSTART;TZID=Europe/London:20250116T190000
DTEND;TZID=Europe/London:20250116T210000
DTSTAMP:20260420T083913
CREATED:20231106T130907Z
LAST-MODIFIED:20241012T150240Z
UID:2622-1737054000-1737061200@www.bowsdenvillagehall.net
SUMMARY:Bowsden Discussion Group
DESCRIPTION:
URL:https://www.bowsdenvillagehall.net/event/bowsden-discussion-group-2/
LOCATION:Northumberland
END:VEVENT
BEGIN:VEVENT
DTSTART;TZID=Europe/London:20250114T060000
DTEND;TZID=Europe/London:20250114T060000
DTSTAMP:20260420T083913
CREATED:20250112T225525Z
LAST-MODIFIED:20250112T225525Z
UID:4394-1736834400-1736834400@www.bowsdenvillagehall.net
SUMMARY:
DESCRIPTION:Heating Test
URL:https://www.bowsdenvillagehall.net/event/4394/
LOCATION:Northumberland
END:VEVENT
BEGIN:VEVENT
DTSTART;TZID=Europe/London:20250107T190000
DTEND;TZID=Europe/London:20250107T210000
DTSTAMP:20260420T083913
CREATED:20231122T203739Z
LAST-MODIFIED:20241205T201319Z
UID:2824-1736276400-1736283600@www.bowsdenvillagehall.net
SUMMARY:Carpet Bowls
DESCRIPTION:
URL:https://www.bowsdenvillagehall.net/event/carpet-bowls-53/
LOCATION:Northumberland
END:VEVENT
BEGIN:VEVENT
DTSTART;TZID=Europe/London:20250104T080000
DTEND;TZID=Europe/London:20250104T123000
DTSTAMP:20260420T083913
CREATED:20250103T160108Z
LAST-MODIFIED:20250103T160108Z
UID:4359-1735977600-1735993800@www.bowsdenvillagehall.net
SUMMARY:
DESCRIPTION:Heating Test
URL:https://www.bowsdenvillagehall.net/event/4359/
LOCATION:Northumberland
END:VEVENT
BEGIN:VEVENT
DTSTART;TZID=Europe/London:20250103T080000
DTEND;TZID=Europe/London:20250103T100000
DTSTAMP:20260420T083913
CREATED:20250102T224311Z
LAST-MODIFIED:20250102T224311Z
UID:4357-1735891200-1735898400@www.bowsdenvillagehall.net
SUMMARY:
DESCRIPTION:Heating test
URL:https://www.bowsdenvillagehall.net/event/4357/
LOCATION:Northumberland
END:VEVENT
BEGIN:VEVENT
DTSTART;TZID=Europe/London:20241231T160000
DTEND;TZID=Europe/London:20241231T170000
DTSTAMP:20260420T083913
CREATED:20241227T092118Z
LAST-MODIFIED:20241227T093100Z
UID:4355-1735660800-1735664400@www.bowsdenvillagehall.net
SUMMARY:
DESCRIPTION:Heating Check
URL:https://www.bowsdenvillagehall.net/event/4355/
LOCATION:Northumberland
END:VEVENT
END:VCALENDAR