BEGIN:VCALENDAR
VERSION:2.0
PRODID:-//Bowsden Village Hall - ECPv6.15.20//NONSGML v1.0//EN
CALSCALE:GREGORIAN
METHOD:PUBLISH
X-WR-CALNAME:Bowsden Village Hall
X-ORIGINAL-URL:https://www.bowsdenvillagehall.net
X-WR-CALDESC:Events for Bowsden Village Hall
REFRESH-INTERVAL;VALUE=DURATION:PT1H
X-Robots-Tag:noindex
X-PUBLISHED-TTL:PT1H
BEGIN:VTIMEZONE
TZID:Europe/London
BEGIN:DAYLIGHT
TZOFFSETFROM:+0000
TZOFFSETTO:+0100
TZNAME:BST
DTSTART:20240331T010000
END:DAYLIGHT
BEGIN:STANDARD
TZOFFSETFROM:+0100
TZOFFSETTO:+0000
TZNAME:GMT
DTSTART:20241027T010000
END:STANDARD
BEGIN:DAYLIGHT
TZOFFSETFROM:+0000
TZOFFSETTO:+0100
TZNAME:BST
DTSTART:20250330T010000
END:DAYLIGHT
BEGIN:STANDARD
TZOFFSETFROM:+0100
TZOFFSETTO:+0000
TZNAME:GMT
DTSTART:20251026T010000
END:STANDARD
BEGIN:DAYLIGHT
TZOFFSETFROM:+0000
TZOFFSETTO:+0100
TZNAME:BST
DTSTART:20260329T010000
END:DAYLIGHT
BEGIN:STANDARD
TZOFFSETFROM:+0100
TZOFFSETTO:+0000
TZNAME:GMT
DTSTART:20261025T010000
END:STANDARD
END:VTIMEZONE
BEGIN:VEVENT
DTSTART;TZID=Europe/London:20250929T190000
DTEND;TZID=Europe/London:20250929T210000
DTSTAMP:20260420T043603
CREATED:20220404T132001Z
LAST-MODIFIED:20250507T151146Z
UID:1352-1759172400-1759179600@www.bowsdenvillagehall.net
SUMMARY:Bowsden Parish Council Meeting
DESCRIPTION:
URL:https://www.bowsdenvillagehall.net/event/bowsden-parish-council-meeting-3/
END:VEVENT
BEGIN:VEVENT
DTSTART;TZID=Europe/London:20250928T130000
DTEND;TZID=Europe/London:20250928T150000
DTSTAMP:20260420T043603
CREATED:20250809T194214Z
LAST-MODIFIED:20250809T194214Z
UID:5125-1759064400-1759071600@www.bowsdenvillagehall.net
SUMMARY:Talk - Restoration of a WW2 Motorcycle
DESCRIPTION:Join uas for a talk on the restoration of a WW2 motorcycle. The bar will be open. Talk starts 1pm
URL:https://www.bowsdenvillagehall.net/event/talk-restoration-of-a-ww2-motorcycle/
END:VEVENT
BEGIN:VEVENT
DTSTART;TZID=Europe/London:20250925T193000
DTEND;TZID=Europe/London:20250925T220000
DTSTAMP:20260420T043603
CREATED:20250925T161554Z
LAST-MODIFIED:20250925T161554Z
UID:5224-1758828600-1758837600@www.bowsdenvillagehall.net
SUMMARY:Halloween Film Night - film starts 8pm
DESCRIPTION:Join us for a spooky film. Fancy dress optional!
URL:https://www.bowsdenvillagehall.net/event/halloween-film-night-film-starts-8pm/
END:VEVENT
BEGIN:VEVENT
DTSTART;TZID=Europe/London:20250925T183000
DTEND;TZID=Europe/London:20250925T193000
DTSTAMP:20260420T043603
CREATED:20250725T104508Z
LAST-MODIFIED:20250725T114627Z
UID:5098-1758825000-1758828600@www.bowsdenvillagehall.net
SUMMARY:Boxercise
DESCRIPTION:
URL:https://www.bowsdenvillagehall.net/event/boxercise-13/
END:VEVENT
BEGIN:VEVENT
DTSTART;TZID=Europe/London:20250923T190000
DTEND;TZID=Europe/London:20250923T210000
DTSTAMP:20260420T043603
CREATED:20250205T174107Z
LAST-MODIFIED:20250205T174214Z
UID:4639-1758654000-1758661200@www.bowsdenvillagehall.net
SUMMARY:Carpet Bowls
DESCRIPTION:
URL:https://www.bowsdenvillagehall.net/event/carpet-bowls-13/
LOCATION:Bowsden Village Hall\, Bowsden\, Berwick-upon-Tweed\, Northumberland\, TD15 2TW\, United Kingdom
END:VEVENT
BEGIN:VEVENT
DTSTART;TZID=Europe/London:20250923T133000
DTEND;TZID=Europe/London:20250923T153000
DTSTAMP:20260420T043603
CREATED:20250205T172656Z
LAST-MODIFIED:20250205T172936Z
UID:4580-1758634200-1758641400@www.bowsdenvillagehall.net
SUMMARY:Needlework Group
DESCRIPTION:
URL:https://www.bowsdenvillagehall.net/event/needlework-group-21/
LOCATION:Bowsden Village Hall\, Bowsden\, Berwick-upon-Tweed\, Northumberland\, TD15 2TW\, United Kingdom
END:VEVENT
BEGIN:VEVENT
DTSTART;TZID=Europe/London:20250922T173000
DTEND;TZID=Europe/London:20250922T190000
DTSTAMP:20260420T043603
CREATED:20240107T072352Z
LAST-MODIFIED:20250813T202004Z
UID:2946-1758562200-1758567600@www.bowsdenvillagehall.net
SUMMARY:Crazy Crochet
DESCRIPTION:
URL:https://www.bowsdenvillagehall.net/event/crazy-crochet/
END:VEVENT
BEGIN:VEVENT
DTSTART;TZID=Europe/London:20250921T130000
DTEND;TZID=Europe/London:20250921T170000
DTSTAMP:20260420T043603
CREATED:20241205T194241Z
LAST-MODIFIED:20250921T110431Z
UID:4322-1758459600-1758474000@www.bowsdenvillagehall.net
SUMMARY:National theatre production - Inter Alia
DESCRIPTION:National Theatre Live-  Inter Alia 1pm £10 – PLEASE NOTE DATE CHANGE \nA searing new play from the team behind Prima Facie \nJessica Parks is smart\, compassionate\, a true maverick at the top of her career as an eminent London Crown Court Judge. At work she’s changing and challenging the system one case at a time. But behind the robe\, Jessica is a karaoke fiend\, a loving wife and a supportive parent. \nWhile managing the impossible juggling act faced by every working mother\, an event threatens to throw her life completely off balance. Can she hold her family upright? \nRosamund Pike (Saltburn) makes her National Theatre debut as Jessica. Writer Suzie Miller and director Justin Martin reunite following their global phenomenon Prima Facie with this searing examination of modern masculinity and motherhood.
URL:https://www.bowsdenvillagehall.net/event/national-theatre-live-production-3/
END:VEVENT
BEGIN:VEVENT
DTSTART;TZID=Europe/London:20250918T183000
DTEND;TZID=Europe/London:20250918T193000
DTSTAMP:20260420T043603
CREATED:20250725T104503Z
LAST-MODIFIED:20250725T114606Z
UID:5097-1758220200-1758223800@www.bowsdenvillagehall.net
SUMMARY:Boxercise
DESCRIPTION:
URL:https://www.bowsdenvillagehall.net/event/boxercise-12/
END:VEVENT
BEGIN:VEVENT
DTSTART;TZID=Europe/London:20250916T133000
DTEND;TZID=Europe/London:20250916T153000
DTSTAMP:20260420T043603
CREATED:20250205T172652Z
LAST-MODIFIED:20250205T172920Z
UID:4579-1758029400-1758036600@www.bowsdenvillagehall.net
SUMMARY:Needlework Group
DESCRIPTION:
URL:https://www.bowsdenvillagehall.net/event/needlework-group-20/
LOCATION:Bowsden Village Hall\, Bowsden\, Berwick-upon-Tweed\, Northumberland\, TD15 2TW\, United Kingdom
END:VEVENT
BEGIN:VEVENT
DTSTART;TZID=Europe/London:20250911T183000
DTEND;TZID=Europe/London:20250911T193000
DTSTAMP:20260420T043603
CREATED:20250725T104457Z
LAST-MODIFIED:20250725T114545Z
UID:5096-1757615400-1757619000@www.bowsdenvillagehall.net
SUMMARY:Boxercise
DESCRIPTION:
URL:https://www.bowsdenvillagehall.net/event/boxercise-11/
END:VEVENT
BEGIN:VEVENT
DTSTART;TZID=Europe/London:20250904T183000
DTEND;TZID=Europe/London:20250904T193000
DTSTAMP:20260420T043603
CREATED:20250725T104443Z
LAST-MODIFIED:20250725T114525Z
UID:5095-1757010600-1757014200@www.bowsdenvillagehall.net
SUMMARY:Boxercise
DESCRIPTION:
URL:https://www.bowsdenvillagehall.net/event/boxercise-10/
END:VEVENT
BEGIN:VEVENT
DTSTART;TZID=Europe/London:20250901T193000
DTEND;TZID=Europe/London:20250901T210000
DTSTAMP:20260420T043603
CREATED:20240402T154519Z
LAST-MODIFIED:20250724T121159Z
UID:3313-1756755000-1756760400@www.bowsdenvillagehall.net
SUMMARY:Bowsden History Group
DESCRIPTION:A history of Northumbrian Small Pipes with Anthony Robb \n  \nDoors open at 7pm \nTalk starts at 7.30pm
URL:https://www.bowsdenvillagehall.net/event/bowsden-history-group-6/
END:VEVENT
BEGIN:VEVENT
DTSTART;TZID=Europe/London:20250828T183000
DTEND;TZID=Europe/London:20250828T193000
DTSTAMP:20260420T043603
CREATED:20250725T104244Z
LAST-MODIFIED:20250725T114423Z
UID:5089-1756405800-1756409400@www.bowsdenvillagehall.net
SUMMARY:Boxercise
DESCRIPTION:
URL:https://www.bowsdenvillagehall.net/event/boxercise-9/
END:VEVENT
BEGIN:VEVENT
DTSTART;TZID=Europe/London:20250826T190000
DTEND;TZID=Europe/London:20250826T210000
DTSTAMP:20260420T043603
CREATED:20250127T135204Z
LAST-MODIFIED:20250725T071537Z
UID:4408-1756234800-1756242000@www.bowsdenvillagehall.net
SUMMARY:Committee Training
DESCRIPTION:
URL:https://www.bowsdenvillagehall.net/event/committee-fire-safety-training/
END:VEVENT
BEGIN:VEVENT
DTSTART;TZID=Europe/London:20250825T170000
DTEND;TZID=Europe/London:20250825T190000
DTSTAMP:20260420T043603
CREATED:20240107T072614Z
LAST-MODIFIED:20250307T142808Z
UID:2950-1756141200-1756148400@www.bowsdenvillagehall.net
SUMMARY:Crazy Crochet
DESCRIPTION:
URL:https://www.bowsdenvillagehall.net/event/crazy-crochet-13/
END:VEVENT
BEGIN:VEVENT
DTSTART;TZID=Europe/London:20250824T130000
DTEND;TZID=Europe/London:20250824T150000
DTSTAMP:20260420T043603
CREATED:20240603T150241Z
LAST-MODIFIED:20250616T113621Z
UID:3825-1756040400-1756047600@www.bowsdenvillagehall.net
SUMMARY:Games Afternoon
DESCRIPTION:
URL:https://www.bowsdenvillagehall.net/event/games-afternoon-3/
END:VEVENT
BEGIN:VEVENT
DTSTART;TZID=Europe/London:20250822T190000
DTEND;TZID=Europe/London:20250822T230000
DTSTAMP:20260420T043603
CREATED:20241022T112022Z
LAST-MODIFIED:20250604T130126Z
UID:4255-1755889200-1755903600@www.bowsdenvillagehall.net
SUMMARY:Live Music Evening
DESCRIPTION:True Colours . Entry by donation
URL:https://www.bowsdenvillagehall.net/event/provisional-private-booking/
END:VEVENT
BEGIN:VEVENT
DTSTART;TZID=Europe/London:20250821T183000
DTEND;TZID=Europe/London:20250821T193000
DTSTAMP:20260420T043603
CREATED:20250725T104252Z
LAST-MODIFIED:20250725T114355Z
UID:5091-1755801000-1755804600@www.bowsdenvillagehall.net
SUMMARY:Boxercise
DESCRIPTION:
URL:https://www.bowsdenvillagehall.net/event/boxercise-8/
END:VEVENT
BEGIN:VEVENT
DTSTART;TZID=Europe/London:20250814T183000
DTEND;TZID=Europe/London:20250814T193000
DTSTAMP:20260420T043603
CREATED:20250725T104248Z
LAST-MODIFIED:20250725T114327Z
UID:5090-1755196200-1755199800@www.bowsdenvillagehall.net
SUMMARY:Boxercise
DESCRIPTION:
URL:https://www.bowsdenvillagehall.net/event/boxercise/
END:VEVENT
BEGIN:VEVENT
DTSTART;TZID=Europe/London:20250814T120000
DTEND;TZID=Europe/London:20250814T160000
DTSTAMP:20260420T043603
CREATED:20250525T192313Z
LAST-MODIFIED:20250525T192313Z
UID:4988-1755172800-1755187200@www.bowsdenvillagehall.net
SUMMARY:Private event
DESCRIPTION:
URL:https://www.bowsdenvillagehall.net/event/private-event-2/
END:VEVENT
BEGIN:VEVENT
DTSTART;TZID=Europe/London:20250811T170000
DTEND;TZID=Europe/London:20250811T190000
DTSTAMP:20260420T043603
CREATED:20240107T072725Z
LAST-MODIFIED:20250307T142627Z
UID:2952-1754931600-1754938800@www.bowsdenvillagehall.net
SUMMARY:Crazy Crochet
DESCRIPTION:
URL:https://www.bowsdenvillagehall.net/event/crazy-crochet-14/
END:VEVENT
BEGIN:VEVENT
DTSTART;TZID=Europe/London:20250807T183000
DTEND;TZID=Europe/London:20250807T193000
DTSTAMP:20260420T043603
CREATED:20250617T113317Z
LAST-MODIFIED:20250617T131221Z
UID:5025-1754591400-1754595000@www.bowsdenvillagehall.net
SUMMARY:Boxercise
DESCRIPTION:
URL:https://www.bowsdenvillagehall.net/event/boxercise-5/
END:VEVENT
BEGIN:VEVENT
DTSTART;TZID=Europe/London:20250731T183000
DTEND;TZID=Europe/London:20250731T193000
DTSTAMP:20260420T043603
CREATED:20250617T113322Z
LAST-MODIFIED:20250617T131112Z
UID:5026-1753986600-1753990200@www.bowsdenvillagehall.net
SUMMARY:Boxercise
DESCRIPTION:
URL:https://www.bowsdenvillagehall.net/event/boxercise-4/
END:VEVENT
BEGIN:VEVENT
DTSTART;TZID=Europe/London:20250729T190000
DTEND;TZID=Europe/London:20250729T200000
DTSTAMP:20260420T043603
CREATED:20250711T203036Z
LAST-MODIFIED:20250711T203036Z
UID:5042-1753815600-1753819200@www.bowsdenvillagehall.net
SUMMARY:Garden Club Talk - all welcome
DESCRIPTION:Bowsden Garden Club Talk by John Daniels on local species of butterfly and how to identify them.
URL:https://www.bowsdenvillagehall.net/event/garden-club-talk-all-welcome/
END:VEVENT
BEGIN:VEVENT
DTSTART;TZID=Europe/London:20250728T170000
DTEND;TZID=Europe/London:20250728T190000
DTSTAMP:20260420T043603
CREATED:20240107T072822Z
LAST-MODIFIED:20250727T100539Z
UID:2954-1753722000-1753729200@www.bowsdenvillagehall.net
SUMMARY:Crazy Crochet - cancelled
DESCRIPTION:
URL:https://www.bowsdenvillagehall.net/event/crazy-crochet-15/
END:VEVENT
BEGIN:VEVENT
DTSTART;TZID=Europe/London:20250727T130000
DTEND;TZID=Europe/London:20250727T150000
DTSTAMP:20260420T043603
CREATED:20240603T160153Z
LAST-MODIFIED:20250727T111756Z
UID:3820-1753621200-1753628400@www.bowsdenvillagehall.net
SUMMARY:Games Afternoon - cancelled
DESCRIPTION:
URL:https://www.bowsdenvillagehall.net/event/games-afternoon/
END:VEVENT
BEGIN:VEVENT
DTSTART;TZID=Europe/London:20250724T183000
DTEND;TZID=Europe/London:20250724T193000
DTSTAMP:20260420T043603
CREATED:20250617T113331Z
LAST-MODIFIED:20250627T073913Z
UID:5027-1753381800-1753385400@www.bowsdenvillagehall.net
SUMMARY:Boxercise
DESCRIPTION:
URL:https://www.bowsdenvillagehall.net/event/boxercise-3/
END:VEVENT
BEGIN:VEVENT
DTSTART;TZID=Europe/London:20250718T190000
DTEND;TZID=Europe/London:20250718T230000
DTSTAMP:20260420T043603
CREATED:20240201T143959Z
LAST-MODIFIED:20250604T130031Z
UID:3176-1752865200-1752879600@www.bowsdenvillagehall.net
SUMMARY:Bowsden Summer Cocktail Evening
DESCRIPTION:
URL:https://www.bowsdenvillagehall.net/event/bowsden-social-night-7/
END:VEVENT
BEGIN:VEVENT
DTSTART;TZID=Europe/London:20250717T183000
DTEND;TZID=Europe/London:20250717T193000
DTSTAMP:20260420T043603
CREATED:20250617T113340Z
LAST-MODIFIED:20250617T131019Z
UID:5028-1752777000-1752780600@www.bowsdenvillagehall.net
SUMMARY:Boxercise
DESCRIPTION:
URL:https://www.bowsdenvillagehall.net/event/boxercise-2/
END:VEVENT
END:VCALENDAR